Workbook
Name SETOP: [1]SETOP!$A$4:$D$2894

Sheet Orçamento
C2: PLANILHA ORÇAMENTÁRIA DE CUSTOS (COM DESONERAÇÃO /DESONERADO)
C5: OBRA: | F5: REFORMA UNICENTRO | I5: DATA:JULHO/2026
C6: LOCAL: | F6: AV. DÂMASO DRUMMOND, Nº 275 - BAIRRO VILA GUIMARÃES | I6: FORMA DE EXECUÇÃO | K6: BDI
C7: COORDENADAS GEOGRÁFICAS: | F7: 19°35'38.0"S / 46°55'42.3"W
C8: REGIÃO/MÊS DE REFERÊNCIA: | F8: SINAPI - JUNHO/2026 SEINFRA - ABRIL/2026 | I8: ( ) DIRETA | J8: ( X ) INDIRETA | K8: 0.2769 | N8: =K13+K18+K24+K47+K54+K85+K116+K132+K163+K181+K201+K211+K243 -> 574433.26
C9: PRAZO DE EXECUÇÃO (meses): | F9: 4 (QUATRO)
C10: ITEM | D10: CÓDIGO | E10: FONTE | F10: DESCRIÇÃO | G10: UN | H10: QTDE | I10: PREÇO UNITARIO | J10: PREÇO UNITARIO C/ BDI | K10: TOTAL | N10: 0.005
C11: 1 | F11: Serviços Preliminares
C12: 1.1 | D12: ED-50392 | E12: SEINFRA 04/2025 | F12: MOBILIZAÇÃO E DESMOBILIZAÇÃO DE OBRA EM CENTRO URBANO OU REGIÃO LIMÍTROFE COM VALOR ATÉ 1.000.000,00 | G12: % | H12: 0.005 | I12: =N12 -> 2251.0905 | J12: =ROUND(I12*(1+$K$8),3) -> 2874.417 | K12: =J12 -> 2874.417 | N12: =N8*N10/1.2759 -> 2251.0905
C13: 1.2 | D13: ED-28427 | E13: SEINFRA | F13: FORNECIMENTO E COLOCAÇÃO DE PLACA DE OBRA EM CHAPA GALVANIZADA #26, ESP. 0,45MM, DIMENSÃO (3X1,5)M, PLOTADA COM ADESIVO VINÍLICO, AFIXADA COM REBITES 4,8X40MM, EM ESTRUTURA METÁLICA DE METALON 20X20MM, ESP. 1,25MM, INCLUSIVE SUPORTE EM EUCALIPTO AUTOCLAVADO PINTADO COM TINTA PVA DUAS (2) DEMÃOS | G13: U | H13: 1 | I13: 1178.37 | J13: =ROUND(I13*(1+$K$8),3) -> 1504.661 | K13: =ROUND(J13*H13,3) -> 1504.661
C14: TOTAL DA ETAPA 1 | K14: =ROUND(SUM(K12:K13),4) -> 4379.078
C15: 2 | F15: Administração Local
C16: 2.1 | D16: 90777 | E16: SINAPI | F16: ENGENHEIRO CIVIL DE OBRA JUNIOR COM ENCARGOS COMPLEMENTARES - Obs. 2hrs/dia | G16: H | H16: =2*21*4 -> 168 | I16: 132.32 | J16: =ROUND(I16*(1+$K$8),3) -> 168.959 | K16: =ROUND(H16*J16,3) -> 28385.112
C17: 2.2 | D17: ED-21776 | E17: SEINFRA | F17: ENCARREGADO GERAL DE OBRAS COM ENCARGOS COMPLEMENTARES | G17: MÊS | H17: =4 -> 4 | I17: 9720.1 | J17: =ROUND(I17*(1+$K$8),3) -> 12411.596 | K17: =ROUND(H17*J17,3) -> 49646.384
C18: TOTAL DA ETAPA 2 | K18: =SUM(K16:K17) -> 78031.496
C19: 3 | F19: Demolições e Remoções
C20: 3.1 | D20: ED-48435 | E20: SEINFRA | F20: DEMOLIÇÃO MANUAL DE ALVENARIA DE TIJOLO CERÂMICO OU BLOCO DE CONCRETO, INCLUSIVE AFASTAMENTO E EMPILHAMENTO, EXCLUSIVE TRANSPORTE E RETIRADA DO MATERIAL DEMOLIDO | G20: M3 | H20: 14.41 | I20: 122.65 | J20: =ROUND(I20*(1+$K$8),3) -> 156.612 | K20: =ROUND(H20*J20,3) -> 2256.779
C21: 3.2 | D21: ED-48501 | E21: SEINFRA | F21: DEMOLIÇÃO MANUAL DE REBOCO OU EMBOÇO, COM ESPESSURA DE ATÉ 55MM, INCLUSIVE AFASTAMENTO E EMPILHAMENTO, EXCLUSIVE TRANSPORTE E RETIRADA DO MATERIAL DEMOLIDO - Obs. Paredes do piso inferior com estágio avançado de infiltrações | G21: M2 | H21: =5*2.7 -> 13.5 | I21: 11.57 | J21: =ROUND(I21*(1+$K$8),3) -> 14.774 | K21: =ROUND(H21*J21,3) -> 199.449
C22: 3.3 | D22: ED-51132 | E22: SEINFRA | F22: CARGA DE MATERIAL DE QUALQUER NATUREZA SOBRE CAMINHÃO - MECÂNICA | G22: M3 | H22: =4.1865*1.3 -> 5.44245 | I22: 3.45 | J22: =ROUND(I22*(1+$K$8),3) -> 4.405 | K22: =ROUND(H22*J22,3) -> 23.974
C23: 3.4 | D23: ED-29234 | E23: SEINFRA | F23: TRANSPORTE DE MATERIAL DE QUALQUER NATUREZA EM CAMINHÃO, DISTÂNCIA MAIOR QUE 20KM E MENOR OU IGUAL A 30KM, DENTRO DO PERÍMETRO URBANO, EXCLUSIVE CARGA, INCLUSIVE DESCARGA | G23: M3xKM | H23: =ROUND(H22*11.3*2,2) -> 123 | I23: 1.79 | J23: =ROUND(I23*(1+$K$8),3) -> 2.286 | K23: =ROUND(H23*J23,3) -> 281.178 | N23: =K23+K152 -> 335.585
C24: TOTAL DA ETAPA 3 | K24: =SUM(K20:K23) -> 2761.38
C25: 4 | F25: Estruturas
C26: 4.1 | F26: Sala do Gerador
C27: 4.1.1 | D27: ED-50703 | E27: SEINFRA | F27: LIMPEZA DE TERRENO, INCLUSIVE CAPINA, RASTELAMENTO COM AFASTAMENTO ATÉ VINTE (20) METROS E QUEIMA CONTROLADA | G27: M2 | H27: =H28 -> 11.56 | I27: 2.79 | J27: =I27*(1+$K$8) -> 3.562551 | K27: =ROUND(H27*J27,3) -> 41.183 | N27: =K27+K102 -> 53.295673
C28: 4.1.2 | D28: 97084 | E28: SINAPI | F28: COMPACTAÇÃO MECÂNICA DE SOLO PARA EXECUÇÃO DE RADIER, PISO DE CONCRETO OU LAJE SOBRE SOLO, COM COMPACTADOR DE SOLOS TIPO PLACA VIBRATÓRIA. AF_09/2021 | G28: M2 | H28: =3.4*3.4 -> 11.56 | I28: 0.77 | J28: =I28*(1+$K$8) -> 0.983213 | K28: =ROUND(H28*J28,3) -> 11.366
C29: 4.1.3 | D29: 100324 | E29: SINAPI | F29: LASTRO COM MATERIAL GRANULAR (PEDRA BRITADA N.1 E PEDRA BRITADA N.2), APLICADO EM PISOS OU LAJES SOBRE SOLO, ESPESSURA DE *10 CM*. AF_01/2024 | G29: M3 | H29: =H28*0.1 -> 1.156 | I29: 218.54 | J29: =I29*(1+$K$8) -> 279.05373 | K29: =ROUND(H29*J29,3) -> 322.586
C30: 4.1.4 | D30: 97087 | E30: SINAPI | F30: CAMADA SEPARADORA PARA EXECUÇÃO DE RADIER, PISO DE CONCRETO OU LAJE SOBRE SOLO, EM LONA PLÁSTICA. AF_09/2021 | G30: M2 | H30: =H28 -> 11.56 | I30: 3.35 | J30: =I30*(1+$K$8) -> 4.277615 | K30: =ROUND(H30*J30,3) -> 49.449
C31: 4.1.5 | D31: 97102 | E31: SINAPI | F31: EXECUÇÃO DE RADIER, ESPESSURA DE 15 CM, FCK = 30 MPA, COM USO DE FORMAS EM MADEIRA SERRADA. AF_09/2021 | G31: M2 | H31: =H28 -> 11.56 | I31: 232.62 | J31: =I31*(1+$K$8) -> 297.03248 | K31: =ROUND(H31*J31,3) -> 3433.695
C32: 4.1.6 | D32: 97092 | E32: SINAPI | F32: ARMAÇÃO PARA EXECUÇÃO DE RADIER, PISO DE CONCRETO OU LAJE SOBRE SOLO, COM USO DE TELA Q-196. AF_09/2021 - Obs. 3,1kg/m² | G32: KG | H32: =3.1*H28 -> 35.836 | I32: 13.54 | J32: =I32*(1+$K$8) -> 17.289226 | K32: =ROUND(H32*J32,3) -> 619.577
C33: 4.1.7 | D33: ED-50848 | E33: SEINFRA | F33: LAJE 10 CM MACIÇA DE CONCRETO 20 MPa, COM ARMAÇÃO, FÔRMA RESINADA, ESCORAMENTO E DESFORMA | G33: M2 | H33: =H28 -> 11.56 | I33: 240.24 | J33: =I33*(1+$K$8) -> 306.76246 | K33: =ROUND(H33*J33,3) -> 3546.174
C34: 4.1.8 | D34: ED-48201 | E34: SEINFRA | F34: ALVENARIA ESTRUTURAL COM BLOCO DE CONCRETO, ESP. 14CM , (FBK 4,5MPA), INCLUSIVE ARGAMASSA PARA ASSENTAMENTO | G34: M2 | H34: =3.4*4*(2.8+0.6)-H37*0.2-0.9*2.1 -> 30.75 | I34: 86.2 | J34: =I34*(1+$K$8) -> 110.06878 | K34: =ROUND(H34*J34,3) -> 3384.615
C35: 4.1.9 | D35: 33 | E35: SINAPI | F35: ACO CA-50, 8,0 MM, VERGALHAO. Obs. Armação vertical - Duas barras em toda extensão - 0,395kg/m | G35: KG | H35: =(10*2.8+8*0.6)*0.395 -> 12.956 | I35: 7.25 | J35: =I35*(1+$K$8) -> 9.257525 | K35: =ROUND(H35*J35,3) -> 119.94 | N35: =K35+K39+K43 -> 430.323
C36: 4.1.10 | D36: ED-29621 | E36: SEINFRA | F36: APLICAÇÃO DE GRAUTE COM ARGAMASSA DE CIMENTO, CAL HIDRATADA, AREIA E BRITA, TRAÇO (1:0,1:3:2), INCLUSIVE PREPARO MECANIZADO, TRANSPORTE E LANÇAMENTO. Obs. Considerando 0,008m³ por cada metro de altura do grauteamento vertical | G36: M3 | H36: =(10*2.8+6*0.6)*0.008 -> 0.2528 | I36: 788.61 | J36: =I36*(1+$K$8) -> 1006.9761 | K36: =ROUND(H36*J36,3) -> 254.564 | N36: =K36+K40+K44 -> 1522.266
C37: 4.1.11 | D37: ED-48391 | E37: SEINFRA | F37: CINTA DE AMARRAÇÃO DE ALVENARIA COM BLOCO DE CONCRETO ESTRUTURAL, CANALETA TIPO "U", ESP. 14CM, (FBK 4, 5MPA), INCLUSIVE ARGAMASSA PARA ASSENTAMENTO, EXCLUSIVE GRAUTE E ARMAÇÃO - Obs. Primeira fiada, a cada 4 fiadas e última fiada - Total de 5 fiadas | G37: M | H37: =(3.4*4)*5 -> 68 | I37: 21.41 | J37: =I37*(1+$K$8) -> 27.338429 | K37: =ROUND(H37*J37,3) -> 1859.013
C38: 4.1.12 | D38: 32 | E38: SINAPI | F38: ACO CA-50, 6,3 MM, VERGALHAO - Obs. Armações horizontais - Duas barras em toda extensão das cintas, engastadas nos cantos que serão grauteados - 0,245kg/m | G38: KG | H38: =0.245*(3.4*4*4)*2 -> 26.656 | I38: 7.21 | J38: =I38*(1+$K$8) -> 9.206449 | K38: =ROUND(H38*J38,3) -> 245.407
C39: 4.1.13 | D39: 33 | E39: SINAPI | F39: ACO CA-50, 8,0 MM, VERGALHAO. Obs. Armação cinta que apoia a laje - Duas barras em toda extensão das cintas, engastadas nos cantos que serão grauteados - 0,395kg/m | G39: KG | H39: =0.395*(3.4*4)*2 -> 10.744 | I39: 7.25 | J39: =I39*(1+$K$8) -> 9.257525 | K39: =ROUND(H39*J39,3) -> 99.463
C40: 4.1.14 | D40: ED-29621 | E40: SEINFRA | F40: APLICAÇÃO DE GRAUTE COM ARGAMASSA DE CIMENTO, CAL HIDRATADA, AREIA E BRITA, TRAÇO (1:0,1:3:2), INCLUSIVE PREPARO MECANIZADO, TRANSPORTE E LANÇAMENTO. Obs. Considerando 0,013m³ por m de cinta | G40: M3 | H40: =H37*0.013 -> 0.884 | I40: 788.61 | J40: =I40*(1+$K$8) -> 1006.9761 | K40: =ROUND(H40*J40,3) -> 890.167
C41: 4.2 | F41: Cintas em paredes novas de alvenaria, primeira e última fiada. Devem ser ancoradas em estruturas de concreto existentes
C42: 4.2.1 | D42: ED-48390 | E42: SEINFRA | F42: CINTA DE AMARRAÇÃO DE ALVENARIA COM BLOCO DE CONCRETO ESTRUTURAL, CANALETA TIPO "U", ESP. 9CM, (FBK 4, 5MPA), INCLUSIVE ARGAMASSA PARA ASSENTAMENTO, EXCLUSIVE GRAUTE E ARMAÇÃO | G42: M | H42: =14.42*2 -> 28.84 | I42: 18.77 | J42: =I42*(1+$K$8) -> 23.967413 | K42: =ROUND(H42*J42,3) -> 691.22
C43: 4.2.2 | D43: 33 | E43: SINAPI | F43: ACO CA-50, 8,0 MM, VERGALHAO. Obs. Duas barras em toda extensão das cintas - 0,395kg/m | G43: KG | H43: =0.395*H42*2 -> 22.7836 | I43: 7.25 | J43: =I43*(1+$K$8) -> 9.257525 | K43: =ROUND(H43*J43,3) -> 210.92
...

Sheet BDI

Sheet Cronograma
B5: CRONOGRAMA FISICO-FINANCEIRO
B7: Projeto: REFORMA E AMPLIAÇÃO DA UNICENTRO
B8: Local: Av Dâmaso Dummond, nº275 - Bairro Vila Guimarães
B9: ITEM | C9: SERVIÇO | D9: FÍSICO/ FINANCEIRO | E9: TOTAL ETAPAS | F9: MÊS 1 | G9: MÊS 2 | H9: MÊS 3 | I9: MÊS 4 | J9: TOTAL ETAPAS
B11: 1 | C11: =Orçamento!F11 -> Serviços Preliminares | D11: Físico % | E11: =E12/E38 -> 0.0075853451 | F11: 0.5 | I11: 0.5 | J11: =SUM(F11:I11) -> 1
D12: Financeiro | E12: =Orçamento!K14 -> 4379.078 | F12: =E12*F11 -> 2189.539 | I12: =I11*E12 -> 2189.539 | J12: =ROUND(SUM(F12:I12),2) -> 4379.08
B13: 2 | C13: =Orçamento!F15 -> Administração Local | D13: Físico % | E13: =E14/$E$38 -> 0.13516449 | F13: 0.25 | G13: 0.25 | H13: 0.25 | I13: 0.25 | J13: =SUM(F13:I13) -> 1
D14: Financeiro | E14: =Orçamento!K18 -> 78031.496 | F14: =F13*E14 -> 19507.874 | G14: =G13*E14 -> 19507.874 | H14: =G14 -> 19507.874 | I14: =I13*E14 -> 19507.874 | J14: =ROUND(SUM(F14:I14),2) -> 78031.5
B15: 3 | C15: =Orçamento!F19 -> Demolições e Remoções | D15: Físico % | E15: =E16/$E$38 -> 0.0047832033 | F15: 0.6 | G15: 0.4 | J15: =SUM(F15:I15) -> 1
D16: Financeiro | E16: =Orçamento!K24 -> 2761.38 | F16: =F15*E16 -> 1656.828 | G16: =G15*E16 -> 1104.552 | J16: =ROUND(SUM(F16:I16),2) -> 2761.38
B17: 4 | C17: =Orçamento!F25 -> Estruturas | D17: Físico % | E17: =E18/$E$38 -> 0.03462762 | F17: 0.25 | G17: 0.25 | H17: 0.25 | I17: 0.25 | J17: =SUM(F17:I17) -> 1
D18: Financeiro | E18: =Orçamento!K47 -> 19990.791 | F18: =F17*E18 -> 4997.6977 | G18: =G17*E18 -> 4997.6977 | H18: =H17*E18 -> 4997.6977 | I18: =I17*E18 -> 4997.6977 | J18: =ROUND(SUM(F18:I18),2) -> 19990.79
B19: 5 | C19: =Orçamento!F48 -> Arquitetura | D19: Físico % | E19: =E20/$E$38 -> 0.040071334 | G19: 0.4 | H19: 0.6 | J19: =SUM(F19:I19) -> 1
D20: Financeiro | E20: =Orçamento!K54 -> 23133.489 | G20: =G19*E20 -> 9253.3956 | H20: =H19*E20 -> 13880.093 | J20: =ROUND(SUM(F20:I20),2) -> 23133.49
B21: 6 | C21: =Orçamento!F55 -> Cobertura | D21: Físico % | E21: =E22/$E$38 -> 0.097886089 | G21: 0.5 | H21: 0.25 | I21: 0.25 | J21: =SUM(F21:I21) -> 1
D22: Financeiro | E22: =Orçamento!K85 -> 56510.391 | G22: =G21*E22 -> 28255.196 | H22: =H21*E22 -> 14127.598 | I22: =I21*E22 -> 14127.598 | J22: =ROUND(SUM(F22:I22),2) -> 56510.39
B23: 7 | C23: =Orçamento!F86 -> Piso e Revestimento em parede | D23: Físico % | E23: =E24/$E$38 -> 0.088641132 | H23: 0.5 | I23: 0.5 | J23: =SUM(F23:I23) -> 1
D24: Financeiro | E24: =Orçamento!K116 -> 51173.207 | H24: =H23*E24 -> 25586.603 | I24: =I23*E24 -> 25586.603 | J24: =ROUND(SUM(F24:I24),2) -> 51173.21
B25: 8 | C25: =Orçamento!F117 -> Instalação elétrica | D25: Físico % | E25: =E26/$E$38 -> 0.056596843 | H25: 0.5 | I25: 0.5 | J25: =SUM(F25:I25) -> 1
D26: Financeiro | E26: =Orçamento!K132 -> 32673.792 | H26: =H25*E26 -> 16336.896 | I26: =I25*E26 -> 16336.896 | J26: =ROUND(SUM(F26:I26),2) -> 32673.79
B27: 9 | C27: =Orçamento!F133 -> Instalações Hidráulicas | D27: Físico % | E27: =E28/$E$38 -> 0.058743286 | H27: 0.5 | I27: 0.5 | J27: =SUM(F27:I27) -> 1
D28: Financeiro | E28: =Orçamento!K163 -> 33912.95 | H28: =H27*E28 -> 16956.475 | I28: =I27*E28 -> 16956.475 | J28: =ROUND(SUM(F28:I28),2) -> 33912.95
B29: 10 | C29: =Orçamento!F164 -> Esquadrias | D29: Físico % | E29: =E30/$E$38 -> 0.035582967 | H29: 0.5 | I29: 0.5 | J29: =SUM(F29:I29) -> 1
D30: Financeiro | E30: =Orçamento!K181 -> 20542.32 | H30: =H29*E30 -> 10271.16 | I30: =I29*E30 -> 10271.16 | J30: =ROUND(SUM(F30:I30),2) -> 20542.32
B31: 11 | C31: =Orçamento!F182 -> Pintura | D31: Físico % | E31: =E32/$E$38 -> 0.33311323 | H31: 0.5 | I31: 0.5 | J31: =SUM(F31:I31) -> 1
D32: Financeiro | E32: =Orçamento!K201 -> 192308.83 | H32: =H31*E32 -> 96154.414 | I32: =I31*E32 -> 96154.414 | J32: =ROUND(SUM(F32:I32),2) -> 192308.83
B33: 12 | C33: =Orçamento!F202 -> PCIP | D33: Físico % | E33: =E34/$E$38 -> 0.017012081 | I33: 1 | J33: =SUM(F33:I33) -> 1
D34: Financeiro | E34: =Orçamento!K211 -> 9821.205 | I34: =I33*E34 -> 9821.205 | J34: =SUM(F34:I34) -> 9821.205
B35: 13 | C35: =Orçamento!F212 -> Diversos | D35: Físico % | E35: =E36/$E$38 -> 0.09019238 | H35: 0.5 | I35: 0.5 | J35: =SUM(F35:I35) -> 1
D36: Financeiro | E36: =Orçamento!K243 -> 52068.754 | H36: =H35*E36 -> 26034.377 | I36: =I35*E36 -> 26034.377 | J36: =SUM(F36:I36) -> 52068.754
B37: TOTAL | D37: Físico % | E37: =ROUND(SUM(E11,E13,E15,E17,E19,E21,E23,E25,E27,E29,E31,E33,E35),4) -> 1 | F37: =F38/E38 -> 0.049110621 | G37: =G38/E38 -> 0.10933289 | H37: =H38/E38 -> 0.42239727 | I37: =I38/E38 -> 0.41915922 | J37: =ROUND(SUM(F37:I37),4) -> 1
D38: Financeiro | E38: =ROUND(SUM(E12,E14,E16,E18,E20,E22,E24,E26,E28,E30,E32,E34,E36),4) -> 577307.68 | F38: =ROUND(SUM(F12,F14,F16,F18,F20,F22,F24,F26,F28,F30,F32,F34),4) -> 28351.939 | G38: =ROUND(SUM(G12,G14,G16,G18,G20,G22,G24,G26,G28,G30,G32,G34),4) -> 63118.715 | H38: =ROUND(SUM(H12,H14,H16,H18,H20,H22,H24,H26,H28,H30,H32,H34,H36),4) -> 243853.19 | I38: =ROUND(SUM(I12,I14,I16,I18,I20,I22,I24,I26,I28,I30,I32,I34,I36),4) -> 241983.84 | J38: =F38+G38+H38+I38 -> 577307.68

Sheet QUANTITATIVOS
B7: Medidas | H7: Paredes internas | J7: Teto | L7: Pintura externa
B8: Ambiente | C8: H(m) | D8: V(m) | E8: Perímetro (m) | F8: Área (m²) | H8: Pintura (m²) | J8: Pintura (m²) | N8: Perímetro (m) | O8: h(m) | P8: Área (m²)
B9: PAVIMENTO SUPERIOR | L9: Edificação | M9: Tijolinho a vista | N9: 102.2 | O9: 2.1 | P9: =N9*O9 -> 214.62
B10: ESCADA COBERTA | C10: 1.1 | D10: =3.6+1.5 -> 5.1 | E10: =2*(C10+D10) -> 12.4 | F10: =C10*D10 -> 5.61 | H10: =E10*2.3 -> 28.52 | J10: =F10 -> 5.61 | M10: Platibanda | N10: 102.2 | O10: 1.5 | P10: =N10*O10 -> 153.3 | Q10: =SUM(P10:P14) -> 588.964
B11: DEPÓSITO | C11: 1.75 | D11: 1.7 | E11: =2*(C11+D11) -> 6.9 | F11: =C11*D11 -> 2.975 | H11: =E11*3.4 -> 23.46 | J11: =F11 -> 2.975 | M11: Demais | P11: =102.2*1+8.9*4+(5.1+2.25+1.4+1.75)*4 -> 179.8
B12: DML | C12: 1.75 | D12: 1.35 | E12: =2*(C12+D12) -> 6.2 | F12: =C12*D12 -> 2.3625 | J12: =F12 -> 2.3625 | L12: Muro de divisa | M12: Lateral esquerda | N12: 26.8 | O12: 1.75 | P12: =N12*O12 -> 46.9
B13: ALMOXARIFADO | C13: 1.2 | D13: 3.2 | E13: =2*(C13+D13) -> 8.8 | F13: =C13*D13 -> 3.84 | H13: =E13*3.4 -> 29.92 | J13: =F13 -> 3.84 | M13: Fundo | N13: 35.4 | O13: 2 | P13: =N13*O13 -> 70.8
B14: CONSULTÓRIO | C14: 3.75 | D14: 3.2 | E14: =2*(C14+D14) -> 13.9 | F14: =C14*D14 -> 12 | H14: =E14*3.4 -> 47.26 | J14: =F14 -> 12 | M14: Lateral direita | N14: 53.14 | O14: 2.6 | P14: =N14*O14 -> 138.164
B15: I.S. FEMININO | C15: 2.3 | D15: 3.2 | E15: =2*(C15+D15) -> 11 | F15: =C15*D15 -> 7.36 | J15: =F15 -> 7.36
B16: I.S. MASCULINO | C16: 2.3 | D16: 3.2 | E16: =2*(C16+D16) -> 11 | F16: =C16*D16 -> 7.36 | J16: =F16 -> 7.36
B17: WS. MÉDICO 01 | C17: 1.5 | D17: 3.2 | E17: =2*(C17+D17) -> 9.4 | F17: =C17*D17 -> 4.8 | J17: =F17 -> 4.8 | L17: Portas | M17: Material | N17: Ambiente | O17: Medida | P17: Qtde | Q17: Área (m²)
B18: CONS. MÉDICO 01 | C18: 3.05 | D18: 3.2 | E18: =2*(C18+D18) -> 12.5 | F18: =C18*D18 -> 9.76 | H18: =E18*3.4 -> 42.5 | J18: =F18 -> 9.76 | M18: Alumínio | N18: Lixo | O18: Reaproveitamento porta Sala de Observação
B19: CIRCULAÇÃO 01 | C19: 15.25 | D19: 1.35 | E19: =2*(C19+D19) -> 33.2 | F19: =C19*D19 -> 20.5875 | H19: =E19*3.4 -> 112.88 | J19: =F19 -> 20.5875 | N19: Lavanderia | O19: 90x210 | P19: 1 | Q19: =0.9*2.1 -> 1.89 | R19: =SUM(Q19:Q22) -> 11.97
B20: SALA DE ESPERA/ RECEPÇÃO | C20: 2.95 | D20: 10.15 | E20: =2*(C20+D20) -> 26.2 | F20: =C20*D20 -> 29.9425 | H20: =E20*3.4 -> 89.08 | J20: =F20 -> 29.9425 | N20: Banho interno 1 e 2 | O20: 80x210 | P20: 2 | Q20: =0.8*2.1*2 -> 3.36
B21: SALA DE TRIAGEM NEONATAL | C21: 3.2 | D21: 3.2 | E21: =2*(C21+D21) -> 12.8 | F21: =C21*D21 -> 10.24 | H21: =E21*3.4 -> 43.52 | J21: =F21 -> 10.24 | O21: 60x160 | P21: 4 | Q21: =0.6*1.6*4 -> 3.84
B22: ALMOX. VACINA | C22: 1.53 | D22: 3.2 | E22: =2*(C22+D22) -> 9.46 | F22: =C22*D22 -> 4.896 | H22: =E22*3.4 -> 32.164 | J22: =F22 -> 4.896 | N22: Banho PNE masc e fem | O22: 90x160 | P22: 2 | Q22: =0.9*1.6*2 -> 2.88
B23: INALAÇÃO | C23: 1.53 | D23: 3.2 | E23: =2*(C23+D23) -> 9.46 | F23: =C23*D23 -> 4.896 | H23: =E23*3.4 -> 32.164 | J23: =F23 -> 4.896
B24: CURATIVO | C24: 3.2 | D24: 3.2 | E24: =2*(C24+D24) -> 12.8 | F24: =C24*D24 -> 10.24 | H24: 43.52 | J24: =F24 -> 10.24 | M24: Alumínio com vidro | N24: Recepção Vacina | O24: 200x210 | P24: 1 | Q24: =2.1*2 -> 4.2
B25: EXPURGO | C25: 1.5 | D25: 3.2 | E25: =2*(C25+D25) -> 9.4 | F25: =C25*D25 -> 4.8 | H25: 31.96 | J25: =F25 -> 4.8
B26: GUARDA MATERIAL | C26: 1.55 | D26: 3.2 | E26: =2*(C26+D26) -> 9.5 | F26: =C26*D26 -> 4.96 | H26: =E26*3.4 -> 32.3 | J26: =F26 -> 4.96 | M26: Madeira | N26: Arquivo 1 | O26: 70x210 abrir | P26: 1 | Q26: =0.7*2.1 -> 1.47
B27: CIRCULAÇÃO | C27: 13.5 | D27: 1.2 | E27: =2*(C27+D27) -> 29.4 | F27: =C27*D27 -> 16.2 | H27: =E27*3.4 -> 99.96 | J27: =F27 -> 16.2 | N27: Zoonoses | O27: 90x210 correr | P27: 1 | Q27: =0.9*2.1 -> 1.89
B28: VACINA | C28: 6.55 | D28: 5.2 | E28: =2*(C28+D28) -> 23.5 | F28: =C28*D28 -> 34.06 | H28: 79.9 | J28: =F28 -> 34.06 | N28: Sala dos Agentes/34/35 | O28: 90x210 abrir | P28: 3 | Q28: =0.9*2.1*3 -> 5.67
B29: OBSERVAÇÃO/PROCEDIMENTO | C29: 3.2 | D29: 5.2 | E29: =2*(C29+D29) -> 16.8 | F29: =C29*D29 -> 16.64 | H29: 57.12 | J29: =F29 -> 16.64 | N29: Arquivo 2 | O29: 80x210 correr | P29: 1 | Q29: =0.8*2.1 -> 1.68
B30: PRÉ CONSULTA | C30: 3.2 | D30: 5.2 | E30: =2*(C30+D30) -> 16.8 | F30: =C30*D30 -> 16.64 | H30: 57.12 | J30: =F30 -> 16.64 | N30: Recep/Vaci/Cura/Obs | O30: 100x210 abrir | P30: 4 | Q30: =2.1*4 -> 8.4
B31: CIRCULAÇÃO 02 | C31: 1.35 | D31: 3.5 | E31: =2*(C31+D31) -> 9.7 | F31: =C31*D31 -> 4.725 | H31: =E31*3.4 -> 32.98 | J31: =F31 -> 4.725
B32: ESPERA GERAL | C32: 4.7 | D32: 5.35 | E32: =2*(C32+D32) -> 20.1 | F32: =C32*D32 -> 25.145 | H32: =E32*3.4 -> 68.34 | J32: =F32 -> 25.145
B33: ACESSO FRALDÁRIO | C33: 3.5 | D33: 3.55 | E33: =2*(C33+D33) -> 14.1 | F33: =C33*D33 -> 12.425 | H33: 47.94 | J33: =F33 -> 12.425
B34: W.S. PNE MASCULINO | C34: 1.7 | D34: 1.7 | E34: =2*(C34+D34) -> 6.8 | F34: =C34*D34 -> 2.89 | J34: =F34 -> 2.89
B35: W. S. PNE FEMININO | C35: 1.7 | D35: 1.7 | E35: =2*(C35+D35) -> 6.8 | F35: =C35*D35 -> 2.89 | J35: =F35 -> 2.89
B36: DEPÓSITO | C36: 1.35 | D36: 1.85 | E36: =2*(C36+D36) -> 6.4 | F36: =C36*D36 -> 2.4975 | H36: =E36*3.4 -> 21.76 | J36: =F36 -> 2.4975
B37: COMPRESSOR | C37: 1.35 | D37: 3.3 | E37: =2*(C37+D37) -> 9.3 | F37: =C37*D37 -> 4.455 | H37: 31.62 | J37: =F37 -> 4.455
B38: ADMINISTRATIVO | C38: 1.8 | D38: 1.7 | E38: =2*(C38+D38) -> 7 | F38: =C38*D38 -> 3.06 | H38: =E38*3.4 -> 23.8 | J38: =F38 -> 3.06
B39: ADONTOLOGIA | C39: 9.9 | D39: 4.86 | E39: =2*(C39+D39) -> 29.52 | F39: =C39*D39 -> 48.114 | H39: =E39*3.4 -> 100.368 | J39: =F39 -> 48.114
B40: EXPURGO | C40: 1.7 | D40: 2.05 | E40: =2*(C40+D40) -> 7.5 | F40: =C40*D40 -> 3.485 | H40: =E40*3.4 -> 25.5 | J40: =F40 -> 3.485
B41: RX ADONTOLOGICO | C41: 1.35 | D41: 2.05 | E41: =2*(C41+D41) -> 6.8 | F41: =C41*D41 -> 2.7675 | H41: =E41*3.4 -> 23.12 | J41: =F41 -> 2.7675
B42: ESPERA ODONTOLOGIA | C42: 3.2 | D42: 1.77 | E42: =2*(C42+D42) -> 9.94 | F42: =C42*D42 -> 5.664 | H42: =E42*3.4 -> 33.796 | J42: =F42 -> 5.664
B43: CIRCULAÇÃO | C43: 9.9 | D43: 1.3 | E43: =2*(C43+D43) -> 22.4 | F43: =C43*D43 -> 12.87 | H43: =E43*3.4 -> 76.16 | J43: =F43 -> 12.87
B44: RECEPÇÃO/REGISTRO | C44: 3.55 | D44: 4.54 | E44: =2*(C44+D44) -> 16.18 | F44: =C44*D44 -> 16.117 | H44: =E44*3.4 -> 55.012 | J44: =F44 -> 16.117
B45: CIRCULAÇÃO | C45: 1.32 | D45: 3.31 | E45: =2*(C45+D45) -> 9.26 | F45: =C45*D45 -> 4.3692 | H45: =E45*3.4 -> 31.484 | J45: =F45 -> 4.3692
B46: COLETA DE EXAMES | C46: 3.08 | D46: 3.31 | E46: =2*(C46+D46) -> 12.78 | F46: =C46*D46 -> 10.1948 | H46: 43.452 | J46: =F46 -> 10.1948
...
