Workbook

Sheet Orçamento
C4: PLANILHA ORÇAMENTÁRIA
C5: PREFEITURA MUNICIPAL DE ARAXÁ-MG
C6: OBRA: REFORMA GINÁSIO SÃO PEDRO | I6: DATA: MAIO/2026
C7: LOCAL: RUA MAESTRO FIRMO, Nº 160 - BAIRRO VILA SÃO PEDRO | I7: FORMA DE EXECUÇÃO: | L7: BDI
C8: COORDENADAS GEOGRÁFICAS: 19°35'03''S 46°56'26''W
C9: REGIÃO/MÊS DE REFERÊNCIA: SINAPI: FEVEREIRO/2026 - SEINFRA: JANEIRO/2026 | I9: ( ) DIRETA | K9: ( X ) INDIRETA | L9: 0.2635
C10: PRAZO DE EXECUÇÃO: 4 MESES
L11: COM DESONERAÇÃO
C12: ITEM | D12: CÓDIGO | E12: FONTE | G12: DESCRIÇÃO | H12: UN | I12: QTDE | J12: PREÇO UNIT. | K12: PREÇO UNIT. C/ BDI | L12: PREÇO TOTAL
C13: 1 | G13: SERVIÇOS PRELIMINARES
C14: 1.1 | D14: ED-50392 | E14: SEINFRA | F14: 101119 | G14: MOBILIZAÇÃO E DESMOBILIZAÇÃO DE OBRA EM CENTRO URBANO OU REGIÃO LIMÍTROFE COM VALOR ATÉ O VALOR DE 1.000.000,00 | H14: % | I14: 0.5 | J14: =K14/1.2635 -> 3465.1381 | K14: =L14/I14 -> 4378.202 | L14: 2189.101
C15: 1.2 | D15: ED-28427 | E15: SEINFRA | F15: 94190 | G15: FORNECIMENTO E COLOCAÇÃO DE PLACA DE OBRA EM CHAPA GALVANIZADA #26, ESP. 0,45MM, DIMENSÃO (3X1,5)M, PLOTADA COM ADESIVO VINÍLICO, AFIXADA COM REBITES 4,8X40MM, EM ESTRUTURA METÁLICA DE METALON 20X20MM, ESP. 1,25MM, INCLUSIVE SUPORTE EM EUCALIPTO AUTOCLAVADO PINTADO COM TINTA PVA DUAS (2) DEMÃOS | H15: U | I15: 1 | J15: 1187.1 | K15: =ROUND(J15*1.2635,3) -> 1499.901 | L15: =ROUND(K15*I15,3) -> 1499.901
C16: 1.3 | D16: ED-16350 | E16: SEINFRA | F16: 77039 | G16: LOCAÇÃO DE CONTAINER COM ISOLAMENTO TÉRMICO, TIPO 3, PARA DEPÓSITO/FERRAMENTARIA DE OBRA, COM MEDIDAS REFERENCIAIS DE (6) METROS COMPRIMENTO, (2,3) METROS LARGURA E (2,5) METROS ALTURA ÚTIL INTERNA, INCLUSIVE LIGAÇÕES ELÉTRICAS INTERNAS, EXCLUSIVE MOBILIZAÇÃO/DESMOBILIZAÇÃO E LIGAÇÕES PROVISÓRIAS EXTERNAS | H16: MÊS | I16: 4 | J16: 858.58 | K16: =ROUND(J16*1.2635,3) -> 1084.816 | L16: =ROUND(K16*I16,3) -> 4339.264
C17: 1.4 | D17: ED-50137 | E17: SEINFRA | F17: 77040 | G17: MOBILIZAÇÃO E DESMOBILIZAÇÃO DE CONTAINER, INCLUSIVE CARGA, DESCARGA E TRANSPORTE EM CAMINHÃO CARROCERIA COM GUINDAUTO (MUNCK), EXCLUSIVE LOCAÇÃO DO CONTAINER | H17: U | I17: 1 | J17: 1667.26 | K17: =ROUND(J17*1.2635,3) -> 2106.583 | L17: =ROUND(K17*I17,3) -> 2106.583
C18: 1.5 | D18: ED-50163 | E18: SEINFRA | F18: 102693 | G18: TAPUME DE PROTEÇÃO PARA TRANSEUNTE EM TELA DE POLIETILENO, COM MÓDULO NA DIMENSÃO DE (150X150)CM, INCLUSIVE PONTALETE COM BASE DE APOIO EM CONCRETO MAGRO, FORNECIMENTO E MOVIMENTAÇÃO | H18: M | I18: 70 | J18: 14.34 | K18: =ROUND(J18*1.2635,3) -> 18.119 | L18: =ROUND(K18*I18,3) -> 1268.33
C19: TOTAL ITEM 1: | L19: =SUM(L14:L18) -> 11403.179
C20: 2 | G20: ADMINISTRAÇÃO LOCAL
C21: 2.1 | D21: 90777 | E21: SINAPI | F21: 77247 | G21: ENGENHEIRO CIVIL DE OBRA JUNIOR COM ENCARGOS COMPLEMENTARES - 1 hr/dia | H21: H | I21: =21*4 -> 84 | J21: 117.64 | K21: =ROUND(J21*1.2635,3) -> 148.638 | L21: =ROUND(K21*I21,3) -> 12485.592
C22: 2.2 | D22: 90776 | E22: SINAPI | F22: 102696 | G22: ENCARREGADO GERAL COM ENCARGOS COMPLEMENTARES - Obs. 4hrs/dia | H22: H | I22: =I21*4 -> 336 | J22: 62.3 | K22: =ROUND(J22*1.2635,3) -> 78.716 | L22: =ROUND(K22*I22,3) -> 26448.576
C23: TOTAL ITEM 2: | L23: =SUM(L21:L22) -> 38934.168
C24: 3 | G24: DEMOLIÇÕES E REMOÇÕES
C25: 3.1 | D25: ED-48509 | E25: SEINFRA | F25: 102697 | G25: REMOÇÃO MANUAL DE TELHA METÁLICA OU PVC, COM REAPROVEITAMENTO, INCLUSIVE AFASTAMENTO E EMPILHAMENTO, EXCLUSIVE TRANSPORTE E RETIRADA DO MATERIAL REMOVIDO NÃO REAPROVEITÁVEL | H25: M2 | I25: =I41+I42+I43 -> 114 | J25: 10.31 | K25: =ROUND(J25*1.2635,3) -> 13.027 | L25: =ROUND(I25*K25,3) -> 1485.078
C26: 3.2 | D26: ED-48482 | E26: SEINFRA | F26: 102698 | G26: DEMOLIÇÃO MANUAL DE PISO VINÍLICO, INCLUSIVE AFASTAMENTO E EMPILHAMENTO, EXCLUSIVE TRANSPORTE E RETIRADA DO MATERIAL DEMOLIDO - Obs. Quadra (444,55) e Banheiros (19,67) - piso emborrachado | H26: M2 | I26: =444.55+19.67 -> 464.22 | J26: 10.33 | K26: =ROUND(J26*1.2635,3) -> 13.052 | L26: =ROUND(I26*K26,3) -> 6058.999
C27: 3.3 | D27: ED-48479 | E27: SEINFRA | F27: 93123 | G27: DEMOLIÇÃO MANUAL DE PISO CIMENTADO OU CONTRAPISO DE ARGAMASSA, COM ESPESSURA MÁXIMA DE 10CM, INCLUSIVE AFASTAMENTO E EMPILHAMENTO, EXCLUSIVE TRANSPORTE E RETIRADA DO MATERIAL DEMOLIDO | H27: M2 | I27: =I66+I71 -> 18 | J27: 20.66 | K27: =ROUND(J27*1.2635,3) -> 26.104 | L27: =ROUND(I27*K27,3) -> 469.872
C28: 3.4 | D28: ED-48502 | E28: SEINFRA | F28: 77048 | G28: DEMOLIÇÃO MANUAL DE REVESTIMENTO CERÂMICO, AZULEJO OU LADRILHO HIDRÁULICO, INCLUSIVE AFASTAMENTO E EMPILHAMENTO, EXCLUSIVE DEMOLIÇÃO DO REBOCO OU EMBOÇO, TRANSPORTE E RETIRADA DO MATERIAL DEMOLIDO - Banheiros | H28: M2 | I28: =(11.8+13.3-2*0.7)*1.55 -> 36.735 | J28: 24.1 | K28: =ROUND(J28*1.2635,3) -> 30.45 | L28: =ROUND(I28*K28,3) -> 1118.581
C29: 3.5 | D29: ED-48435 | E29: SEINFRA | F29: 77047 | G29: DEMOLIÇÃO MANUAL DE ALVENARIA DE TIJOLO CERÂMICO OU BLOCO DE CONCRETO, INCLUSIVE AFASTAMENTO E EMPILHAMENTO, EXCLUSIVE TRANSPORTE E RETIRADA DO MATERIAL DEMOLIDO - Divisórias box banheiros revestidas com ladrilho hidráulico e aumento do vão de 3 portas de 70cm para 90cm, mudança de posicionamento de uma porta de 70cm, demolição de arquibancada 2metros lineares centralizado | H29: M3 | I29: =1.18*2*4*0.18+(0.23+1.5)*2*0.18+(3*0.2*2.1)+0.9*2.1+(0.4*0.5+0.8*0.5+1.2*0.5)*2 -> 7.872 | J29: 122.65 | K29: =ROUND(J29*1.2635,3) -> 154.968 | L29: =ROUND(I29*K29,3) -> 1219.908
C30: 3.6 | D30: ED-48501 | E30: SEINFRA | F30: 99127 | G30: DEMOLIÇÃO MANUAL DE REBOCO OU EMBOÇO, COM ESPESSURA DE ATÉ 55MM, INCLUSIVE AFASTAMENTO E EMPILHAMENTO, EXCLUSIVE TRANSPORTE E RETIRADA DO MATERIAL DEMOLIDO - Obs. Recuperação de rebocos daterioarados | H30: M2 | I30: 10 | J30: 11.57 | K30: =ROUND(J30*1.2635,3) -> 14.619 | L30: =ROUND(I30*K30,3) -> 146.19
C31: 3.7 | D31: ED-48467 | E31: SEINFRA | F31: 99966 | G31: REMOÇÃO DE LOUÇAS (LAVATÓRIO, BANHEIRA, PIA, VASO SANITÁRIO, TANQUE), COM REAPROVEITAMENTO, INCLUSIVE AFASTAMENTO E EMPILHAMENTO, EXCLUSIVE TRANSPORTE E RETIRADA DO MATERIAL REMOVIDO NÃO REAPROVEITÁVEL - Obs. Bacias sanitárias serão reassentadas | H31: U | I31: 3 | J31: 50.1 | K31: =ROUND(J31*1.2635,3) -> 63.301 | L31: =ROUND(I31*K31,3) -> 189.903
C32: 3.8 | D32: 97663 | E32: SINAPI | F32: 77052 | G32: REMOÇÃO DE LOUÇAS, DE FORMA MANUAL, SEM REAPROVEITAMENTO. AF_09/2023 | H32: U | I32: 4 | J32: 14.14 | K32: =ROUND(J32*1.2635,3) -> 17.866 | L32: =ROUND(I32*K32,3) -> 71.464
C33: 3.9 | D33: 97666 | E33: SINAPI | F33: 77051 | G33: REMOÇÃO DE METAIS SANITÁRIOS, DE FORMA MANUAL, SEM REAPROVEITAMENTO. AF_09/2023 | H33: U | I33: 10 | J33: 10.31 | K33: =ROUND(J33*1.2635,3) -> 13.027 | L33: =ROUND(I33*K33,3) -> 130.27
C34: 3.10 | D34: 97665 | E34: SINAPI | F34: 77046 | G34: REMOÇÃO DE LUMINÁRIAS, DE FORMA MANUAL, SEM REAPROVEITAMENTO. AF_09/2023 | H34: U | I34: 23 | J34: 2.01 | K34: =ROUND(J34*1.2635,3) -> 2.54 | L34: =ROUND(I34*K34,3) -> 58.42
C35: 3.11 | D35: 97644 | E35: SINAPI | F35: 77044 | G35: REMOÇÃO DE PORTAS, DE FORMA MANUAL, SEM REAPROVEITAMENTO. AF_09/2023 - Obs. 6 portas de madeira e um alçapão | H35: M2 | I35: =0.7*2.1*6+0.6*0.6 -> 9.18 | J35: 10.69 | K35: =ROUND(J35*1.2635,3) -> 13.507 | L35: =ROUND(K35*I35,3) -> 123.994
C36: 3.12 | D36: ED-51133 | E36: SEINFRA | F36: 77292 | G36: TRANSPORTE DE MATERIAL DE QUALQUER NATUREZA COM CARRINHO DE MÃO, COM DISTÂNCIAS MENORES OU IGUAIS A 50M, INCLUSIVE CARGA/DESCARGA | H36: M3 | I36: =I37 -> 40.269 | J36: 27.9 | K36: =ROUND(J36*1.2635,3) -> 35.252 | L36: =ROUND(I36*K36,3) -> 1419.563
C37: 3.13 | D37: ED-51132 | E37: SEINFRA | F37: 67299 | G37: CARGA DE MATERIAL DE QUALQUER NATUREZA SOBRE CAMINHÃO - MECÂNICA | H37: M3 | I37: =ROUND((I25*0.08+I26*0.02+I27*0.08+I28*0.04+I29+I30*0.05+I31*0.3*0.2*0.2+I32*0.4*0.5*0.2+I33*0.1*0.08*0.05+I34*0.5*0.15*0.1+I35*0.1)*1.3,3) -> 40.269 | J37: 3.35 | K37: =ROUND(J37*1.2635,3) -> 4.233 | L37: =ROUND(I37*K37,3) -> 170.459
C38: 3.14 | D38: ED-29233 | E38: SEINFRA | F38: 93125 | G38: TRANSPORTE DE MATERIAL DE QUALQUER NATUREZA EM CAMINHÃO, DISTÂNCIA MAIOR QUE 10KM E MENOR OU IGUAL A 20KM, DENTRO DO PERÍMETRO URBANO, EXCLUSIVE CARGA, INCLUSIVE DESCARGA - Obs. Dmt 11,6km | H38: M3xKM | I38: =ROUND(I37*11.6,3) -> 467.12 | J38: 1.76 | K38: =ROUND(J38*1.2635,3) -> 2.224 | L38: =ROUND(I38*K38,3) -> 1038.875
C39: TOTAL ITEM 3: | L39: =SUM(L25:L38) -> 13701.576
C40: 4 | G40: COBERTURA E FORRO
C41: 4.1 | D41: 94449 | E41: SINAPI | F41: 93817 | G41: TELHAMENTO COM TELHA ONDULADA DE FIBRA DE VIDRO E = 0,6 MM, PARA TELHADO COM INCLINAÇÃO MAIOR QUE 10°, COM ATÉ 2 ÁGUAS, INCLUSO IÇAMENTO. AF_07/2019 - Substituição das telhas translúcidas | H41: M2 | I41: =1.1*2.5*36 -> 99 | J41: 62.29 | K41: =ROUND(J41*1.2635,3) -> 78.703 | L41: =ROUND(I41*K41,3) -> 7791.597
C42: 4.2 | D42: ED-13852 | E42: SEINFRA | F42: 91944 | G42: COBERTURA EM TELHA METÁLICA GALVANIZADA ONDULADA, TIPO SIMPLES, ESP. 0,50MM, ACABAMENTO NATURAL, INCLUSIVE ACESSÓRIOS PARA FIXAÇÃO, FORNECIMENTO E INSTALAÇÃO | H42: M2 | I42: 5 | J42: 95.33 | K42: =ROUND(J42*1.2635,3) -> 120.449 | L42: =ROUND(I42*K42,3) -> 602.245
C43: 4.3 | D43: ED-48423 | E43: SEINFRA | F43: 92367 | G43: COBERTURA EM TELHA DE FIBROCIMENTO, TIPO ONDULADA, ESP . 5MM, COM RECOBRIMENTO TRANSVERSAL E LONGITUDINAL, EXCLUSIVE CUMEEIRA E ENGRADAMENTO, INCLUSIVE ACESSÓRIOS DE FIXAÇÃO E IÇAMENTO MANUAL VERTICAL | H43: M2 | I43: 10 | J43: 49.12 | K43: =ROUND(J43*1.2635,3) -> 62.063 | L43: =ROUND(I43*K43,3) -> 620.63
...

Sheet Cronograma
C8: CRONOGRAMA FÍSICO-FINANCEIRO
C10: Projeto: | D10: GINÁSIO SÃO PEDRO
C11: Local: | D11: RUA MAESTRO FIRMO, Nº 160 - BAIRRO VILA SÃO PEDRO
C12: ITEM | D12: SERVIÇO | E12: FÍSICO/ FINANCEIRO | F12: TOTAL ETAPAS | G12: MÊS 1 | H12: MÊS 2 | I12: MÊS 3 | J12: MÊS 4 | K12: TOTAL ETAPAS
C14: 1 | D14: =Orçamento!G13 -> SERVIÇOS PRELIMINARES | E14: Físico % | F14: =F15/F35 -> 0.025931631 | G14: 0.3 | H14: 0.225 | I14: 0.225 | J14: 0.25 | K14: =SUM(G14:J14) -> 1
E15: Financeiro | F15: =Orçamento!L19 -> 11403.179 | G15: =G14*F15 -> 3420.9537 | H15: =H14*F15 -> 2565.7153 | I15: =I14*F15 -> 2565.7153 | J15: =J14*F15 -> 2850.7948 | K15: =ROUND(SUM(G15:J15),2) -> 11403.18
C16: 2 | D16: =Orçamento!G20 -> ADMINISTRAÇÃO LOCAL | E16: Físico % | F16: =F17/F35 -> 0.088539038 | G16: 0.25 | H16: 0.25 | I16: 0.25 | J16: 0.25 | K16: =SUM(G16:J16) -> 1
E17: Financeiro | F17: =Orçamento!L23 -> 38934.168 | G17: =G16*F17 -> 9733.542 | H17: =H16*F17 -> 9733.542 | I17: =I16*F17 -> 9733.542 | J17: =J16*F17 -> 9733.542 | K17: =ROUND(SUM(G17:J17),2) -> 38934.17
C18: 3 | D18: =Orçamento!G24 -> DEMOLIÇÕES E REMOÇÕES | E18: Físico % | F18: =F19/F35 -> 0.031158348 | G18: 0.7 | H18: 0.3 | K18: =SUM(G18:J18) -> 1
E19: Financeiro | F19: =Orçamento!L39 -> 13701.576 | G19: =G18*F19 -> 9591.1032 | H19: =H18*F19 -> 4110.4728 | K19: =ROUND(SUM(G19:J19),2) -> 13701.58
C20: 4 | D20: =Orçamento!G40 -> COBERTURA E FORRO | E20: Físico % | F20: =F21/F35 -> 0.028634648 | H20: 0.7 | I20: 0.2 | J20: 0.1 | K20: =SUM(G20:J20) -> 1
E21: Financeiro | F21: =Orçamento!L47 -> 12591.804 | H21: =H20*F21 -> 8814.2628 | I21: =I20*F21 -> 2518.3608 | J21: =J20*F21 -> 1259.1804 | K21: =ROUND(SUM(G21:J21),2) -> 12591.8
C22: 5 | D22: =Orçamento!G48 -> PISOS E REVESTIMENTOS | E22: Físico % | F22: =F23/F35 -> 0.35507172 | G22: 0.15 | H22: 0.55 | I22: 0.3 | K22: =SUM(G22:J22) -> 1
E23: Financeiro | F23: =Orçamento!L79 -> 156139.29 | G23: =G22*F23 -> 23420.893 | H23: =H22*F23 -> 85876.607 | I23: =I22*F23 -> 46841.786 | K23: =ROUND(SUM(G23:J23),2) -> 156139.29
C24: 6 | D24: =Orçamento!G80 -> INSTALAÇÕES ELÉTRICAS | E24: Físico % | F24: =F25/F35 -> 0.067566017 | G24: 0.1 | H24: 0.2 | I24: 0.3 | J24: 0.4 | K24: =SUM(G24:J24) -> 1
E25: Financeiro | F25: =Orçamento!L104 -> 29711.489 | G25: =G24*F25 -> 2971.1489 | H25: =H24*F25 -> 5942.2978 | I25: =I24*F25 -> 8913.4467 | J25: =J24*F25 -> 11884.596 | K25: =ROUND(SUM(G25:J25),2) -> 29711.49
C26: 7 | D26: =Orçamento!G105 -> HIDRÁULICA | E26: Físico % | F26: =F27/F35 -> 0.08001313 | H26: 0.25 | I26: 0.6 | J26: 0.15 | K26: =SUM(G26:J26) -> 1
E27: Financeiro | F27: =Orçamento!L161 -> 35184.984 | H27: =H26*F27 -> 8796.2461 | I27: =I26*F27 -> 21110.991 | J27: =J26*F27 -> 5277.7476 | K27: =ROUND(SUM(G27:J27),2) -> 35184.98
C28: 8 | D28: =Orçamento!G162 -> PINTURA | E28: Físico % | F28: =F29/F35 -> 0.21448667 | H28: 0.15 | I28: 0.7 | J28: 0.15 | K28: =SUM(G28:J28) -> 1
E29: Financeiro | F29: =Orçamento!L180 -> 94318.396 | H29: =H28*F29 -> 14147.759 | I29: =I28*F29 -> 66022.877 | J29: =J28*F29 -> 14147.759 | K29: =ROUND(SUM(G29:J29),2) -> 94318.4
C30: 9 | D30: =Orçamento!G181 -> ESQUADRIAS | E30: Físico % | F30: =F31/F35 -> 0.031829003 | H30: 0.1 | I30: 0.5 | J30: 0.4 | K30: =SUM(G30:J30) -> 1
E31: Financeiro | F31: =Orçamento!L190 -> 13996.49 | H31: =H30*F31 -> 1399.649 | I31: =I30*F31 -> 6998.245 | J31: =J30*F31 -> 5598.596 | K31: =SUM(G31:J31) -> 13996.49
C32: 10 | D32: =Orçamento!G191 -> DIVERSOS | E32: Físico % | F32: =F33/F35 -> 0.076769793 | H32: 0.3 | I32: 0.3 | J32: 0.4 | K32: =SUM(G32:J32) -> 1
E33: Financeiro | F33: =Orçamento!L215 -> 33758.759 | H33: =H32*F33 -> 10127.628 | I33: =I32*F33 -> 10127.628 | J33: =J32*F33 -> 13503.503 | K33: =SUM(G33:J33) -> 33758.759
C34: TOTAL | E34: Físico % | F34: =F30+F28+F326++F24+F22+F20+F18+F16+F14+F32+F26 -> 1 | G34: =G35/F35 -> 0.11174245 | H34: =H35/F35 -> 0.34455391 | I34: =I35/F35 -> 0.39758161 | J34: =J35/F35 -> 0.14612203 | K34: =ROUND(SUM(G34:J34),4) -> 1
E35: Financeiro | F35: =F15+F17+F19+F21+F23+F25+F27+F29+F31+F33 -> 439740.13 | G35: =G15+G17+G19+G21+G23+G25+G27+G29+G31+G33 -> 49137.641 | H35: =H15+H17+H19+H21+H23+H25+H27+H29+H31+H33 -> 151514.18 | I35: =I15+I17+I19+I21+I23+I25+I27+I29+I31+I33 -> 174832.59 | J35: =J15+J17+J19+J21+J23+J25+J27+J29+J31+J33 -> 64255.719 | K35: =F35 -> 439740.13

Sheet Quantitativos Gerais
K5: Paredes | O5: Piso | R5: Teto
K6: Pintura | N6: Revestimento Cerâmico | O6: Porcelanato | P6: Tinta | Q6: Industrial Polido com Tinta Epóxi | R6: Forro de PVC | S6: Tinta
E7: Horizontal | F7: Vertical | G7: Pé-direito | H7: Área | I7: Perímetro | J7: Abertura esquadrias | K7: Latex | L7: Acrílica | M7: Esmalte
D8: Vestiário Fem | E8: 3 | F8: 2.8 | G8: 2.6 | H8: =E8*F8 -> 8.4 | I8: =2*(E8+F8) -> 11.6 | J8: =0.9*2.1+0.8*0.6 -> 2.37 | K8: =I8*G8/3 -> 10.053333 | M8: =I8*G8*2/3 -> 20.106667 | O8: =H8 -> 8.4 | R8: =H8 -> 8.4
D9: Vestiário Masc | E9: =E8 -> 3 | F9: =F8 -> 2.8 | G9: 2.6 | H9: =E9*F9 -> 8.4 | I9: =2*(E9+F9) -> 11.6 | J9: =J8 -> 2.37 | K9: =I9*G9/3 -> 10.053333 | M9: =I9*G9*2/3 -> 20.106667 | O9: =H9 -> 8.4 | R9: =H9 -> 8.4
D10: Banheiro Fem | E10: 2.85 | F10: 3.05 | G10: 2.6 | H10: =E10*F10 -> 8.6925 | I10: =2*(E10+F10) -> 11.8 | J10: =0.9*2.1+1.5*0.6 -> 2.79 | N10: =I10*G10 -> 30.68 | O10: =H10 -> 8.6925 | S10: =H10 -> 8.6925
D11: Banheiro Masc | E11: 3.6 | F11: 3.05 | G11: 2.6 | H11: =E11*F11 -> 10.98 | I11: =2*(E11+F11) -> 13.3 | J11: =J10 -> 2.79 | N11: =I11*G11 -> 34.58 | O11: =H11 -> 10.98 | S11: =H11 -> 10.98
C12: Externo | D12: Área descoberta fundo descoberta | G12: 3 | H12: 64.02 | I12: 44.5 | J12: =J8+J9+J10+J11 -> 10.32 | L12: =(I12*G12-J12)*(2/3) -> 82.12 | M12: =(I12*G12-J12)/3 -> 41.06
D13: Área descoberta fundo coberta | P13: =1.2*7 -> 8.4
D14: Quadra | H14: 445.28 | Q14: =H14 -> 445.28
D15: Corredor | H15: 43.14 | P15: =H15 -> 43.14
D16: Arquibancada | H16: =(1.5+1.2)*28.35 -> 76.545 | P16: =H16 -> 76.545
C17: Paredes Internas Ginásio | D17: Do portão de entrada - | E17: 17.95 | F17: 5 | H17: =E17*F17 -> 89.75 | J17: =2.35*2.1 -> 4.935 | K17: =2.6*2.85 -> 7.41 | M17: =15.1*5+2.85*(1.2+1.2)-J17 -> 77.405
D18: Da arquibancada | E18: 29.7 | F18: =5-0.4*3 -> 3.8 | H18: =E18*F18 -> 112.86 | K18: =E18*F18*2/3 -> 75.24 | M18: =(E18*F18)/3 -> 37.62
D19: Do portão de acesso aos vestiários | E19: 17.95 | F19: 5 | H19: =E19*F19 -> 89.75 | J19: =1.2*2.1 -> 2.52 | K19: =K17 -> 7.41 | M19: =M17 -> 77.405
D20: Da lateral da quadra | E20: 29.7 | F20: 5 | H20: =E20*F20 -> 148.5 | M20: =E20*F20 -> 148.5
C21: Paredes Externas | D21: Frontal -2,1m barrado esmalte | E21: 18.5 | F21: 5 | J21: =2.35*2.1 -> 4.935 | L21: =E21*2.9 -> 53.65 | M21: =E21*2.1-J21 -> 33.915
D22: Frontal área de desnível | E22: 18.5 | F22: 0.85 | M22: =E22*F22 -> 15.725
D23: Lateral Esquerda Ginásio | E23: =30.1+3.25 -> 33.35 | F23: 5.35 | L23: =E23*F23 -> 178.4225
D24: Lateral Esquerda Ginásio área de desnível | E24: =E23/2 -> 16.675 | F24: 0.85 | M24: =E24*F24 -> 14.17375
D25: Lateral Esquerda Muro | E25: 6.85 | F25: 5.35 | J25: =0.8*1.9 -> 1.52 | L25: =E25*F25-J25 -> 35.1275
D26: Calçada, estacionamento e rampa portão | P26: 221.9
K27: =SUM(K8:K26) -> 110.16667 | L27: =SUM(L8:L26) -> 349.32 | M27: =SUM(M8:M26) -> 486.01708 | N27: =SUM(N8:N26) -> 65.26 | O27: =SUM(O8:O26) -> 36.4725 | P27: =SUM(P8:P26) -> 349.985 | R27: =SUM(R8:R9) -> 16.8 | S27: =SUM(S7:S26) -> 19.6725
O28: =O27*1.1 -> 40.11975
