Workbook

Sheet Orçamento
C4: PLANILHA ORÇAMENTÁRIA
C5: PREFEITURA MUNICIPAL DE ARAXÁ-MG
C6: OBRA: REFORMA GINÁSIO SÃO PEDRO | I6: DATA: MAIO/2026
C7: LOCAL: RUA MAESTRO FIRMO, Nº 160 - BAIRRO VILA SÃO PEDRO | I7: FORMA DE EXECUÇÃO: | L7: BDI
C8: COORDENADAS GEOGRÁFICAS: 19°35'03''S 46°56'26''W
C9: REGIÃO/MÊS DE REFERÊNCIA: SINAPI: FEVEREIRO/2026 - SEINFRA: JANEIRO/2026 | I9: ( ) DIRETA | K9: ( X ) INDIRETA | L9: 0.2635
C10: PRAZO DE EXECUÇÃO: 4 MESES
L11: COM DESONERAÇÃO
C12: ITEM | D12: CÓDIGO | E12: FONTE | G12: DESCRIÇÃO | H12: UN | I12: QTDE | J12: PREÇO UNIT. | K12: PREÇO UNIT. C/ BDI | L12: PREÇO TOTAL
C13: 1 | G13: SERVIÇOS PRELIMINARES
C14: 1.1 | D14: ED-50392 | E14: SEINFRA | F14: 101119 | G14: MOBILIZAÇÃO E DESMOBILIZAÇÃO DE OBRA EM CENTRO URBANO OU REGIÃO LIMÍTROFE COM VALOR ATÉ O VALOR DE 1.000.000,00 | H14: % | I14: 0.5 | J14: =K14/1.2635 -> 3465.1381 | K14: =L14/I14 -> 4378.202 | L14: 2189.101
C15: 1.2 | D15: ED-28427 | E15: SEINFRA | F15: 94190 | G15: FORNECIMENTO E COLOCAÇÃO DE PLACA DE OBRA EM CHAPA GALVANIZADA #26, ESP. 0,45MM, DIMENSÃO (3X1,5)M, PLOTADA COM ADESIVO VINÍLICO, AFIXADA COM REBITES 4,8X40MM, EM ESTRUTURA METÁLICA DE METALON 20X20MM, ESP. 1,25MM, INCLUSIVE SUPORTE EM EUCALIPTO AUTOCLAVADO PINTADO COM TINTA PVA DUAS (2) DEMÃOS | H15: U | I15: 1 | J15: 1187.1 | K15: =ROUND(J15*1.2635,3) -> 1499.901 | L15: =ROUND(K15*I15,3) -> 1499.901
C16: 1.3 | D16: ED-16350 | E16: SEINFRA | F16: 77039 | G16: LOCAÇÃO DE CONTAINER COM ISOLAMENTO TÉRMICO, TIPO 3, PARA DEPÓSITO/FERRAMENTARIA DE OBRA, COM MEDIDAS REFERENCIAIS DE (6) METROS COMPRIMENTO, (2,3) METROS LARGURA E (2,5) METROS ALTURA ÚTIL INTERNA, INCLUSIVE LIGAÇÕES ELÉTRICAS INTERNAS, EXCLUSIVE MOBILIZAÇÃO/DESMOBILIZAÇÃO E LIGAÇÕES PROVISÓRIAS EXTERNAS | H16: MÊS | I16: 4 | J16: 858.58 | K16: =ROUND(J16*1.2635,3) -> 1084.816 | L16: =ROUND(K16*I16,3) -> 4339.264
C17: 1.4 | D17: ED-50137 | E17: SEINFRA | F17: 77040 | G17: MOBILIZAÇÃO E DESMOBILIZAÇÃO DE CONTAINER, INCLUSIVE CARGA, DESCARGA E TRANSPORTE EM CAMINHÃO CARROCERIA COM GUINDAUTO (MUNCK), EXCLUSIVE LOCAÇÃO DO CONTAINER | H17: U | I17: 1 | J17: 1667.26 | K17: =ROUND(J17*1.2635,3) -> 2106.583 | L17: =ROUND(K17*I17,3) -> 2106.583
C18: 1.5 | D18: ED-50163 | E18: SEINFRA | F18: 102693 | G18: TAPUME DE PROTEÇÃO PARA TRANSEUNTE EM TELA DE POLIETILENO, COM MÓDULO NA DIMENSÃO DE (150X150)CM, INCLUSIVE PONTALETE COM BASE DE APOIO EM CONCRETO MAGRO, FORNECIMENTO E MOVIMENTAÇÃO | H18: M | I18: 70 | J18: 14.34 | K18: =ROUND(J18*1.2635,3) -> 18.119 | L18: =ROUND(K18*I18,3) -> 1268.33
C19: TOTAL ITEM 1: | L19: =SUM(L14:L18) -> 11403.179
C20: 2 | G20: ADMINISTRAÇÃO LOCAL
C21: 2.1 | D21: 90777 | E21: SINAPI | F21: 77247 | G21: ENGENHEIRO CIVIL DE OBRA JUNIOR COM ENCARGOS COMPLEMENTARES - 1 hr/dia | H21: H | I21: =21*4 -> 84 | J21: 117.64 | K21: =ROUND(J21*1.2635,3) -> 148.638 | L21: =ROUND(K21*I21,3) -> 12485.592
C22: 2.2 | D22: 90776 | E22: SINAPI | F22: 102696 | G22: ENCARREGADO GERAL COM ENCARGOS COMPLEMENTARES - Obs. 4hrs/dia | H22: H | I22: =I21*4 -> 336 | J22: 62.3 | K22: =ROUND(J22*1.2635,3) -> 78.716 | L22: =ROUND(K22*I22,3) -> 26448.576
C23: TOTAL ITEM 2: | L23: =SUM(L21:L22) -> 38934.168
C24: 3 | G24: DEMOLIÇÕES E REMOÇÕES
C25: 3.1 | D25: ED-48509 | E25: SEINFRA | F25: 102697 | G25: REMOÇÃO MANUAL DE TELHA METÁLICA OU PVC, COM REAPROVEITAMENTO, INCLUSIVE AFASTAMENTO E EMPILHAMENTO, EXCLUSIVE TRANSPORTE E RETIRADA DO MATERIAL REMOVIDO NÃO REAPROVEITÁVEL | H25: M2 | I25: =I41+I42+I43 -> 114 | J25: 10.31 | K25: =ROUND(J25*1.2635,3) -> 13.027 | L25: =ROUND(I25*K25,3) -> 1485.078
C26: 3.2 | D26: ED-48482 | E26: SEINFRA | F26: 102698 | G26: DEMOLIÇÃO MANUAL DE PISO VINÍLICO, INCLUSIVE AFASTAMENTO E EMPILHAMENTO, EXCLUSIVE TRANSPORTE E RETIRADA DO MATERIAL DEMOLIDO - Obs. Quadra (444,55) e Banheiros (19,67) - piso emborrachado | H26: M2 | I26: =444.55+19.67 -> 464.22 | J26: 10.33 | K26: =ROUND(J26*1.2635,3) -> 13.052 | L26: =ROUND(I26*K26,3) -> 6058.999
C27: 3.3 | D27: ED-48479 | E27: SEINFRA | F27: 93123 | G27: DEMOLIÇÃO MANUAL DE PISO CIMENTADO OU CONTRAPISO DE ARGAMASSA, COM ESPESSURA MÁXIMA DE 10CM, INCLUSIVE AFASTAMENTO E EMPILHAMENTO, EXCLUSIVE TRANSPORTE E RETIRADA DO MATERIAL DEMOLIDO | H27: M2 | I27: =I66+I71 -> 18 | J27: 20.66 | K27: =ROUND(J27*1.2635,3) -> 26.104 | L27: =ROUND(I27*K27,3) -> 469.872
C28: 3.4 | D28: ED-48502 | E28: SEINFRA | F28: 77048 | G28: DEMOLIÇÃO MANUAL DE REVESTIMENTO CERÂMICO, AZULEJO OU LADRILHO HIDRÁULICO, INCLUSIVE AFASTAMENTO E EMPILHAMENTO, EXCLUSIVE DEMOLIÇÃO DO REBOCO OU EMBOÇO, TRANSPORTE E RETIRADA DO MATERIAL DEMOLIDO - Banheiros | H28: M2 | I28: =(11.8+13.3-2*0.7)*1.55 -> 36.735 | J28: 24.1 | K28: =ROUND(J28*1.2635,3) -> 30.45 | L28: =ROUND(I28*K28,3) -> 1118.581
C29: 3.5 | D29: ED-48435 | E29: SEINFRA | F29: 77047 | G29: DEMOLIÇÃO MANUAL DE ALVENARIA DE TIJOLO CERÂMICO OU BLOCO DE CONCRETO, INCLUSIVE AFASTAMENTO E EMPILHAMENTO, EXCLUSIVE TRANSPORTE E RETIRADA DO MATERIAL DEMOLIDO - Divisórias box banheiros revestidas com ladrilho hidráulico e aumento do vão de 3 portas de 70cm para 90cm, mudança de posicionamento de uma porta de 70cm, demolição de arquibancada 2metros lineares centralizado | H29: M3 | I29: =1.18*2*4*0.18+(0.23+1.5)*2*0.18+(3*0.2*2.1)+0.9*2.1+(0.4*0.5+0.8*0.5+1.2*0.5)*2 -> 7.872 | J29: 122.65 | K29: =ROUND(J29*1.2635,3) -> 154.968 | L29: =ROUND(I29*K29,3) -> 1219.908
C30: 3.6 | D30: ED-48501 | E30: SEINFRA | F30: 99127 | G30: DEMOLIÇÃO MANUAL DE REBOCO OU EMBOÇO, COM ESPESSURA DE ATÉ 55MM, INCLUSIVE AFASTAMENTO E EMPILHAMENTO, EXCLUSIVE TRANSPORTE E RETIRADA DO MATERIAL DEMOLIDO - Obs. Recuperação de rebocos daterioarados | H30: M2 | I30: 10 | J30: 11.57 | K30: =ROUND(J30*1.2635,3) -> 14.619 | L30: =ROUND(I30*K30,3) -> 146.19
C31: 3.7 | D31: ED-48467 | E31: SEINFRA | F31: 99966 | G31: REMOÇÃO DE LOUÇAS (LAVATÓRIO, BANHEIRA, PIA, VASO SANITÁRIO, TANQUE), COM REAPROVEITAMENTO, INCLUSIVE AFASTAMENTO E EMPILHAMENTO, EXCLUSIVE TRANSPORTE E RETIRADA DO MATERIAL REMOVIDO NÃO REAPROVEITÁVEL - Obs. Bacias sanitárias serão reassentadas | H31: U | I31: 3 | J31: 50.1 | K31: =ROUND(J31*1.2635,3) -> 63.301 | L31: =ROUND(I31*K31,3) -> 189.903
C32: 3.8 | D32: 97663 | E32: SINAPI | F32: 77052 | G32: REMOÇÃO DE LOUÇAS, DE FORMA MANUAL, SEM REAPROVEITAMENTO. AF_09/2023 | H32: U | I32: 4 | J32: 14.14 | K32: =ROUND(J32*1.2635,3) -> 17.866 | L32: =ROUND(I32*K32,3) -> 71.464
C33: 3.9 | D33: 97666 | E33: SINAPI | F33: 77051 | G33: REMOÇÃO DE METAIS SANITÁRIOS, DE FORMA MANUAL, SEM REAPROVEITAMENTO. AF_09/2023 | H33: U | I33: 10 | J33: 10.31 | K33: =ROUND(J33*1.2635,3) -> 13.027 | L33: =ROUND(I33*K33,3) -> 130.27
C34: 3.10 | D34: 97665 | E34: SINAPI | F34: 77046 | G34: REMOÇÃO DE LUMINÁRIAS, DE FORMA MANUAL, SEM REAPROVEITAMENTO. AF_09/2023 | H34: U | I34: 23 | J34: 2.01 | K34: =ROUND(J34*1.2635,3) -> 2.54 | L34: =ROUND(I34*K34,3) -> 58.42
C35: 3.11 | D35: 97644 | E35: SINAPI | F35: 77044 | G35: REMOÇÃO DE PORTAS, DE FORMA MANUAL, SEM REAPROVEITAMENTO. AF_09/2023 - Obs. 6 portas de madeira e um alçapão | H35: M2 | I35: =0.7*2.1*6+0.6*0.6 -> 9.18 | J35: 10.69 | K35: =ROUND(J35*1.2635,3) -> 13.507 | L35: =ROUND(K35*I35,3) -> 123.994
C36: 3.12 | D36: ED-51133 | E36: SEINFRA | F36: 77292 | G36: TRANSPORTE DE MATERIAL DE QUALQUER NATUREZA COM CARRINHO DE MÃO, COM DISTÂNCIAS MENORES OU IGUAIS A 50M, INCLUSIVE CARGA/DESCARGA | H36: M3 | I36: =I37 -> 40.269 | J36: 27.9 | K36: =ROUND(J36*1.2635,3) -> 35.252 | L36: =ROUND(I36*K36,3) -> 1419.563
C37: 3.13 | D37: ED-51132 | E37: SEINFRA | F37: 67299 | G37: CARGA DE MATERIAL DE QUALQUER NATUREZA SOBRE CAMINHÃO - MECÂNICA | H37: M3 | I37: =ROUND((I25*0.08+I26*0.02+I27*0.08+I28*0.04+I29+I30*0.05+I31*0.3*0.2*0.2+I32*0.4*0.5*0.2+I33*0.1*0.08*0.05+I34*0.5*0.15*0.1+I35*0.1)*1.3,3) -> 40.269 | J37: 3.35 | K37: =ROUND(J37*1.2635,3) -> 4.233 | L37: =ROUND(I37*K37,3) -> 170.459
C38: 3.14 | D38: ED-29233 | E38: SEINFRA | F38: 93125 | G38: TRANSPORTE DE MATERIAL DE QUALQUER NATUREZA EM CAMINHÃO, DISTÂNCIA MAIOR QUE 10KM E MENOR OU IGUAL A 20KM, DENTRO DO PERÍMETRO URBANO, EXCLUSIVE CARGA, INCLUSIVE DESCARGA - Obs. Dmt 11,6km | H38: M3xKM | I38: =ROUND(I37*11.6,3) -> 467.12 | J38: 1.76 | K38: =ROUND(J38*1.2635,3) -> 2.224 | L38: =ROUND(I38*K38,3) -> 1038.875
C39: TOTAL ITEM 3: | L39: =SUM(L25:L38) -> 13701.576
C40: 4 | G40: COBERTURA E FORRO
C41: 4.1 | D41: 94449 | E41: SINAPI | F41: 93817 | G41: TELHAMENTO COM TELHA ONDULADA DE FIBRA DE VIDRO E = 0,6 MM, PARA TELHADO COM INCLINAÇÃO MAIOR QUE 10°, COM ATÉ 2 ÁGUAS, INCLUSO IÇAMENTO. AF_07/2019 - Substituição das telhas translúcidas | H41: M2 | I41: =1.1*2.5*36 -> 99 | J41: 62.29 | K41: =ROUND(J41*1.2635,3) -> 78.703 | L41: =ROUND(I41*K41,3) -> 7791.597
C42: 4.2 | D42: ED-13852 | E42: SEINFRA | F42: 91944 | G42: COBERTURA EM TELHA METÁLICA GALVANIZADA ONDULADA, TIPO SIMPLES, ESP. 0,50MM, ACABAMENTO NATURAL, INCLUSIVE ACESSÓRIOS PARA FIXAÇÃO, FORNECIMENTO E INSTALAÇÃO | H42: M2 | I42: 5 | J42: 95.33 | K42: =ROUND(J42*1.2635,3) -> 120.449 | L42: =ROUND(I42*K42,3) -> 602.245
C43: 4.3 | D43: ED-48423 | E43: SEINFRA | F43: 92367 | G43: COBERTURA EM TELHA DE FIBROCIMENTO, TIPO ONDULADA, ESP . 5MM, COM RECOBRIMENTO TRANSVERSAL E LONGITUDINAL, EXCLUSIVE CUMEEIRA E ENGRADAMENTO, INCLUSIVE ACESSÓRIOS DE FIXAÇÃO E IÇAMENTO MANUAL VERTICAL | H43: M2 | I43: 10 | J43: 49.12 | K43: =ROUND(J43*1.2635,3) -> 62.063 | L43: =ROUND(I43*K43,3) -> 620.63
C44: 4.4 | D44: ED-50265 | E44: SEINFRA | F44: 93771 | G44: LAVAGEM DE FACHADA COM HIDROJATEAMENTO, EXCLUSIVE ANDAIME METÁLICO, TIPO FIXO/TORRE/SUSPENSO, PARA FACHADA - Obs. Telhas metálicas | H44: M2 | I44: =2.5*96.92+0.5*96.92+23-I41 -> 214.76 | J44: 6.62 | K44: =ROUND(J44*1.2635,3) -> 8.364 | L44: =ROUND(I44*K44,3) -> 1796.253
C45: 4.5 | D45: ED-28728 | E45: SEINFRA | F45: 91475 | G45: FORRO EM RÉGUA DE PVC, LARGURA 20CM, NA COR BRANCA, INCLUSIVE ESTRUTURA DE FIXAÇÃO E PENDURAIS METÁLICOS E ACESSÓRIOS DE FIXAÇÃO, EXCLUSIVE RODAFORRO OU MOLDURA - Obs. Vestiários | H45: M2 | I45: =8.37*2 -> 16.74 | J45: 60.84 | K45: =ROUND(J45*1.2635,3) -> 76.871 | L45: =ROUND(I45*K45,3) -> 1286.821
C46: 4.6 | D46: ED-28751 | E46: SEINFRA | F46: 97738 | G46: RODAFORRO EM PVC, TIPO "U", NA COR BRANCA, PARA FORRO EM RÉGUA DE PVC, INCLUSIVE ACESSÓRIOS PARA FIXAÇÃO | H46: M | I46: =11.58*2 -> 23.16 | J46: 16.89 | K46: =ROUND(J46*1.2635,3) -> 21.341 | L46: =ROUND(I46*K46,3) -> 494.258
C47: TOTAL ITEM 4: | L47: =SUM(L41:L46) -> 12591.804
C48: 5 | G48: PISOS E REVESTIMENTOS
C49: 5.1 | G49: Pisos
C50: 5.1.1 | G50: QUADRA
C51: 5.1.1.1 | D51: 102488 | E51: SINAPI | F51: 94136 | G51: PREPARO DO PISO CIMENTADO PARA PINTURA - LIXAMENTO E LIMPEZA. AF_05/2021 | H51: M2 | I51: 444.55 | J51: 4.08 | K51: 5.155 | L51: =I51*K51 -> 2291.6553
C52: 5.1.1.2 | D52: ED-50577 | E52: SEINFRA | F52: 102699 | G52: PISO INDUSTRIAL COM ARGAMASSA DE ALTA RESISTÊNCIA, COR CINZA, ESP. 8MM, ACABAMENTO POLIDO, MODULAÇÃO DE (1X1)M, INCLUSIVE JUNTA PLÁSTICA E POLIMENTO MECANIZADO, EXCLUSIVE RESINA - Obs. Modulação 3x3 com junta serrada | H52: M2 | I52: 444.55 | J52: 132.08 | K52: =ROUND(J52*1.2635,3) -> 166.883 | L52: =ROUND(I52*K52,3) -> 74187.838
C53: 5.1.1.3 | D53: 44073 | E53: SINAPI | F53: 102700 | G53: TARUGO DELIMITADOR DE PROFUNDIDADE EM ESPUMA DE POLIETILENO DE BAIXA DENSIDADE 10 MM, CINZA - Obs. Selar as juntas de dilatação (255m) - 6mm - considerado 60% da metragem linear de 255m de juntas, ou seja, 153m | H53: M | I53: 153 | J53: 0.99 | K53: =ROUND(J53*1.2635,3) -> 1.251 | L53: =ROUND(I53*K53,3) -> 191.403
C54: 5.1.1.4 | D54: 142 | E54: SINAPI | F54: 99425 | G54: SELANTE ELASTICO MONOCOMPONENTE A BASE DE POLIURETANO (PU) PARA JUNTAS DIVERSAS - Obs. Selar as juntas de dilatação (255m) | H54: 310ML | I54: 16 | J54: 30.88 | K54: =ROUND(J54*1.2635,3) -> 39.017 | L54: =ROUND(I54*K54,3) -> 624.272
C55: 5.1.1.5 | D55: 88309 | E55: SINAPI | F55: 102701 | G55: PEDREIRO COM ENCARGOS COMPLEMENTARES - Obs. Selar as juntas de dilatação (255m) - 1,1655 h/m de acordo com composição do item 98577 | H55: H | I55: =ROUND(1.1655*255,3) -> 297.203 | J55: 31.67 | K55: =ROUND(J55*1.2635,3) -> 40.015 | L55: =ROUND(I55*K55,3) -> 11892.578
C56: 5.1.1.6 | D56: 88316 | E56: SINAPI | F56: 77230 | G56: SERVENTE COM ENCARGOS COMPLEMENTARES - Obs. Selar as juntas de dilatação (255m) - 0,2359 h/m de acordo com composição do item 98577 | H56: H | I56: =ROUND(0.2359*255,3) -> 60.155 | J56: 23.58 | K56: =ROUND(J56*1.2635,3) -> 29.793 | L56: =ROUND(I56*K56,3) -> 1792.198
C57: 5.1.1.7 | D57: ED-20344 | E57: SEINFRA | F57: 102702 | G57: LIXAMENTO E DESBASTE MECANIZADO EM PISO DE CONCRETO | H57: M2 | I57: 444.55 | J57: 4.25 | K57: =ROUND(J57*1.2635,3) -> 5.37 | L57: =ROUND(I57*K57,3) -> 2387.234
C58: 5.1.1.8 | D58: ED-9934 | E58: SEINFRA | F58: 91927 | G58: PINTURA EPÓXI EM PISO, DUAS (2) DEMÃOS, COM APLICAÇÃO MANUAL, INCLUSIVE UMA (1) DEMÃO DE PRIMER EPÓXI - Obs. Item contempla limpeza da superfície | H58: M2 | I58: 444.55 | J58: 57.47 | K58: =ROUND(J58*1.2635,3) -> 72.613 | L58: =ROUND(I58*K58,3) -> 32280.109
C59: 5.1.1.9 | D59: ED-50490 | E59: SEINFRA | F59: 102703 | G59: PINTURA EPÓXI EM FAIXAS DE DEMARCAÇÃO DE PISO, LARGURA DE 5 CM, DUAS (2) DEMÃOS, COM APLICAÇÃO MANUAL | H59: M | I59: 330 | J59: 17.48 | K59: =ROUND(J59*1.2635,3) -> 22.086 | L59: =ROUND(I59*K59,3) -> 7288.38
C60: 5.1.2 | G60: BANHEIROS E VESTIÁRIOS
C61: 5.1.2.1 | D61: ED-13286 | E61: SEINFRA | F61: 77085 | G61: CAMADA DE REGULARIZAÇÃO COM ARGAMASSA, TRAÇO 1:3 ( CIMENTO E AREIA), ESP. 15MM, APLICAÇÃO MANUAL, INCLUSIVE ARGAMASSA COM PREPARO MECANIZADO | H61: M2 | I61: 36.47 | J61: 37.37 | K61: =ROUND(J61*1.2635,3) -> 47.217 | L61: =ROUND(I61*K61,3) -> 1722.004
C62: 5.1.2.2 | D62: ED-50754 | E62: SEINFRA | F62: 93876 | G62: REVESTIMENTO COM PORCELANATO APLICADO EM PISO, ACABAMENTO POLÍDO, AMBIENTE INTERNO, PADRÃO EXTRA, BORDA RETIFICADA, DIMENSÃO DA PEÇA (60X60)CM, ASSENTAMENTO COM ARGAMASSA INDUSTRIALIZADA, INCLUSIVE REJUNTAMENTO - Obs. Acabamento acetinado | H62: M2 | I62: 40.12 | J62: 105.18 | K62: =ROUND(J62*1.2635,3) -> 132.895 | L62: =ROUND(I62*K62,3) -> 5331.747
C63: 5.1.2.3 | D63: ED-51002 | E63: SEINFRA | F63: 102704 | G63: SOLEIRA DE GRANITO, COR CINZA ANDORINHA, ESP. 2CM, ACABAMENTO POLIDO, ASSENTAMENTO COM ARGAMASSA INDUSTRIALIZADA, INCLUSIVE REJUNTAMENTO | H63: M2 | I63: =0.18*(0.9*4) -> 0.648 | J63: 384.22 | K63: =ROUND(J63*1.2635,3) -> 485.462 | L63: =ROUND(I63*K63,3) -> 314.579
C64: 5.1.3 | G64: ÁREA EXTERNA, CALÇADA, VAGAS DE ESTACIONAMENTO
C65: 5.1.3.1 | D65: 99814 | E65: SINAPI | F65: 102705 | G65: LIMPEZA DE SUPERFÍCIE PISO OU PAREDE COM JATO DE ALTA PRESSÃO. AF_10/2025 - Obs. Área externa dos Banheiros e Vestiários | H65: M2 | I65: 64 | J65: 1.67 | K65: =ROUND(J65*1.2635,3) -> 2.11 | L65: =ROUND(I65*K65,3) -> 135.04
C66: 5.1.3.2 | D66: ED-50547 | E66: SEINFRA | F66: 101397 | G66: PISO CIMENTADO COM ARGAMASSA, TRAÇO 1:3 (CIMENTO E AREIA), ESP. 25MM, ACABAMENTO DESEMPENADO E FELTRADO, MODULAÇÃO DE (100X100)CM, INCLUSIVE JUNTA PLÁSTICA - Obs. Recuperação de piso deteriorado | H66: M2 | I66: 15 | J66: 66.14 | K66: =ROUND(J66*1.2635,3) -> 83.568 | L66: =ROUND(I66*K66,3) -> 1253.52
C67: 5.1.3.3 | D67: ED-51148 | E67: SEINFRA | F67: 91627 | G67: RAMPA PARA ACESSO DE DEFICIENTE, EM CONCRETO SIMPLES FCK = 25 MPA, DESEMPENADA, COM PINTURA INDICATIVA, 02 DEMÃOS | H67: U | I67: 1 | J67: 483.97 | K67: =ROUND(J67*1.2635,3) -> 611.496 | L67: =ROUND(I67*K67,3) -> 611.496
C68: 5.1.3.4 | D68: ED-50459 | E68: SEINFRA | F68: 77150 | G68: PINTURA ACRÍLICA PARA PISO EM PASSEIO/SUPERFÍCIE CIMENTADA, DUAS (2) DEMÃOS, COM APLICAÇÃO MANUAL - Obs. Pintura indicativa de rampa de deficiente na calçada lateral existente - Referência na composição do item ED-51148 | H68: M2 | I68: 1.2 | J68: 13.62 | K68: =ROUND(J68*1.2635,3) -> 17.209 | L68: =ROUND(I68*K68,3) -> 20.651
C69: 5.1.4 | G69: RAMPA ÁREA EXTERNA DOS VESTIÁRIOS E BANHEIROS
C70: 5.1.4.1 | D70: ED-51110 | E70: SEINFRA | F70: 77058 | G70: ESCAVAÇÃO MANUAL DE TERRA (DESATERRO MANUAL), INCLUSIVE DESCARGA LATERAL, EXCLUSIVE RETIRADA E TRANSPORTE DO MATERIAL ESCAVADO | H70: M3 | I70: 0.5 | J70: 47.14 | K70: =ROUND(J70*1.2635,3) -> 59.561 | L70: =ROUND(I70*K70,3) -> 29.781
C71: 5.1.4.2 | D71: ED-51122 | E71: SEINFRA | F71: 92905 | G71: REGULARIZAÇÃO E COMPACTAÇÃO DE TERRENO MANUAL COM SOQUETE, EXCLUSIVE DESMATAMENTO, DESTOCAMENTO, LIMPEZA/ROÇADA DO TERRENO | H71: M2 | I71: =1.2*2.5 -> 3 | J71: 11.55 | K71: =ROUND(J71*1.2635,3) -> 14.593 | L71: =ROUND(I71*K71,3) -> 43.779
C72: 5.1.4.3 | D72: 105000 | E72: SINAPI | F72: 98049 | G72: RAMPA DE ACESSIBILIDADE PARA ACESSO A EDIFICAÇÕES COM INCLINAÇÃO DE 8,33% EM CONCRETO MOLDADO IN LOCO, COM LARGURA DE 1,20M, FCK 25MPA, NÃO ARMADA, COM JUNTA A CADA 2M COM CORTE À SECO. AF_03/2024 | H72: M | I72: 2.5 | J72: 1382.72 | K72: =ROUND(J72*1.2635,3) -> 1747.067 | L72: =ROUND(I72*K72,3) -> 4367.668
C73: 5.2 | G73: Revestimento em parede
C74: 5.2.1 | D74: ED-48231 | E74: SEINFRA | F74: 77067 | G74: ALVENARIA DE VEDAÇÃO COM TIJOLO CERÂMICO FURADO, ESP. 9CM, PARA REVESTIMENTO, INCLUSIVE ARGAMASSA PARA ASSENTAMENTO - Obs. Banheiro feminino para mudança na posição da porta | H74: M2 | I74: =0.9*2.1 -> 1.89 | J74: 60.25 | K74: =ROUND(J74*1.2635,3) -> 76.126 | L74: =I74*K74 -> 143.87814
C75: 5.2.2 | D75: ED-50727 | E75: SEINFRA | F75: 91634 | G75: CHAPISCO COM ARGAMASSA, TRAÇO 1:3 (CIMENTO E AREIA), ESP . 5MM, APLICADO EM ALVENARIA/ESTRUTURA DE CONCRETO COM COLHER, INCLUSIVE ARGAMASSA COM PREPARO MECANIZADO - Obs. 3,78 de alvenaria nova, 6,4 para faces onde a arquibancada foi demolida | H75: M2 | I75: =I74*2+(0.4*0.5+0.8*0.5+1.2*0.5)*2+2*2 -> 10.18 | J75: 10.39 | K75: =ROUND(J75*1.2635,3) -> 13.128 | L75: =I75*K75 -> 133.64304
C76: 5.2.3 | D76: ED-50759 | E76: SEINFRA | F76: 77070 | G76: REBOCO COM ARGAMASSA, TRAÇO 1:7 (CIMENTO E AREIA), ESP. 20MM, APLICAÇÃO MANUAL, INCLUSIVE ARGAMASSA COM PREPARO MECANIZADO, EXCLUSIVE CHAPISCO - Obs. Recuperação de rebocos deteriorados (10m²), alvenaria de vedação nova (3,78m²) e faces arquibancada (6,4m²) | H76: M2 | I76: =I30+I75 -> 20.18 | J76: 36.16 | K76: =ROUND(J76*1.2635,3) -> 45.688 | L76: =I76*K76 -> 921.98384
C77: 5.2.4 | D77: ED-50732 | E77: SEINFRA | F77: 77069 | G77: EMBOÇO COM ARGAMASSA, TRAÇO 1:6 (CIMENTO E AREIA), ESP. 20MM, APLICAÇÃO MANUAL, INCLUSIVE ARGAMASSA COM PREPARO MECANIZADO, EXCLUSIVE CHAPISCO - Obs. 10mm de espessura - Regularização da parede | H77: M2 | I77: =I78/2 -> 32.63 | J77: 38.38 | K77: =ROUND(J77*1.2635,3) -> 48.493 | L77: =ROUND(I77*K77,3) -> 1582.327
C78: 5.2.5 | D78: ED-9081 | E78: SEINFRA | F78: 77089 | G78: REVESTIMENTO COM CERÂMICA APLICADO EM PAREDE, ACABAMENTO ESMALTADO, AMBIENTE INTERNO/EXTERNO, PADRÃO EXTRA, DIMENSÃO DA PEÇA ATÉ 2025 CM2, PEI III, ASSENTAMENTO COM ARGAMASSA INDUSTRIALIZADA, INCLUSIVE REJUNTAMENTO | H78: M2 | I78: =30.68+34.58 -> 65.26 | J78: 79.94 | K78: =ROUND(J78*1.2635,3) -> 101.004 | L78: =ROUND(I78*K78,3) -> 6591.521
C79: TOTAL ITEM 5: | L79: =SUM(L49:L78) -> 156139.29
C80: 6 | G80: INSTALAÇÕES ELÉTRICAS
C81: 6.1 | G81: Tomadas e interruptores
C82: 6.1.1 | D82: ED-15748 | E82: SEINFRA | F82: 93882 | G82: CONJUNTO DE UMA (1) TOMADA PADRÃO, TRÊS (3) POLOS, CORRENTE 10A, TENSÃO 250V, (2P+T/10A-250V), COM PLACA 4"X2" DE UM (1) POSTO, INCLUSIVE FORNECIMENTO, INSTALAÇÃO, SUPORTE, MÓDULO E PLACA | H82: U | I82: 3 | J82: 33.71 | K82: =ROUND(J82*1.2635,3) -> 42.593 | L82: =I82*K82 -> 127.779
C83: 6.1.2 | D83: ED-15749 | E83: SEINFRA | F83: 77098 | G83: CONJUNTO DE UMA (1) TOMADA PADRÃO, TRÊS (3) POLOS, CORRENTE 20A, TENSÃO 250V, (2P+T/20A-250V), COM PLACA 4"X2" DE UM (1) POSTO, INCLUSIVE FORNECIMENTO, INSTALAÇÃO, SUPORTE, MÓDULO E PLACA | H83: U | I83: 5 | J83: 37.57 | K83: =ROUND(J83*1.2635,3) -> 47.47 | L83: =I83*K83 -> 237.35
C84: 6.1.3 | D84: ED-15763 | E84: SEINFRA | F84: 102706 | G84: CONJUNTO DE UM (1) MÓDULO COM FURO PARA SAÍDA DE FIO Ø10MM, COM PLACA 4"X2" DE UM (1) POSTO, INCLUSIVE FORNECIMENTO, INSTALAÇÃO, SUPORTE, MÓDULO E PLACA | H84: U | I84: 2 | J84: 18.9 | K84: =ROUND(J84*1.2635,3) -> 23.88 | L84: =I84*K84 -> 47.76
C85: 6.1.4 | D85: ED-15733 | E85: SEINFRA | F85: 91993 | G85: CONJUNTO DE UM (1) INTERRUPTOR SIMPLES, CORRENTE 10A, TENSÃO 250V, (10A-250V), COM PLACA 4"X2" DE UM (1) POSTO, INCLUSIVE FORNECIMENTO, INSTALAÇÃO, SUPORTE, MÓDULO E PLACA | H85: U | I85: 6 | J85: 31.53 | K85: =ROUND(J85*1.2635,3) -> 39.838 | L85: =I85*K85 -> 239.028
C86: 6.1.5 | D86: ED-15779 | E86: SEINFRA | F86: 102707 | G86: CONJUNTO DE UM (1) INTERRUPTORES SIMPLES, CORRENTE 10A, TENSÃO 250V, (10A-250V), UM (1) INTERRUPTOR PARALELO, CORRENTE 10A, TENSÃO 250V, (10A-250V) E UMA (1) TOMADA PADRÃO, TRÊS (3) POLOS, CORRENTE 20A, TENSÃO 250V, (2P+T/ 20A-250V), COM PLACA 4"X2" DE TRÊS (3) POSTOS, INCLUSIVE FORNECIMENTO, INSTALAÇÃO, SUPORTE, MÓDULO E PLACA | H86: U | I86: 3 | J86: 76.9 | K86: =ROUND(J86*1.2635,3) -> 97.163 | L86: =I86*K86 -> 291.489
C87: 6.2 | G87: Luminárias
C88: 6.2.1 | D88: ED-27086 | E88: SEINFRA | F88: 92375 | G88: LUMINÁRIA COMERCIAL COM ALETAS DE SOBREPOR COMPLETA, PARA DUAS (2) LÂMPADAS TUBULARES LED 2X9W-ØT8, TEMPERATURA DA COR 6500K, FORNECIMENTO E INSTALAÇÃO, INCLUSIVE BASE E LÂMPADA | H88: U | I88: 4 | J88: 245.97 | K88: =ROUND(J88*1.2635,3) -> 310.783 | L88: =I88*K88 -> 1243.132
C89: 6.2.2 | D89: ED-22350 | E89: SEINFRA | F89: 101961 | G89: REFLETOR DE LED, POTÊNCIA DE 200W, EXCLUSIVE SUPORTE E POSTE - Obs. 8 de cada lado da quadra, 2 na fachada frontal e 1 na lateral | H89: U | I89: 19 | J89: 167.07 | K89: =ROUND(J89*1.2635,3) -> 211.093 | L89: =I89*K89 -> 4010.767
C90: 6.2.3 | D90: ED-49404 | E90: SEINFRA | F90: 102708 | G90: LUMINÁRIA ARANDELA TIPO TARTARUGA BLINDADA, PARA UMA (1 ) LÂMPADA BASE E-27, POTÊNCIA MÁXIMA 60W, FORNECIMENTO E INSTALAÇÃO, EXCLUSIVE LÂMPADA - Obs. Área externa dos banheiros e vestiários | H90: U | I90: 3 | J90: 103.38 | K90: =ROUND(J90*1.2635,3) -> 130.621 | L90: =I90*K90 -> 391.863
C91: 6.2.4 | D91: 38194 | E91: SINAPI | F91: 102709 | G91: LAMPADA LED 10 W BIVOLT BRANCA, FORMATO TRADICIONAL (BASE E27) - Obs. Complemento arandela | H91: U | I91: =I90 -> 3 | J91: 4.95 | K91: =ROUND(J91*1.2635,3) -> 6.254 | L91: =I91*K91 -> 18.762
C92: 6.3 | G92: Infraestrutura elétrica
C93: 6.3.1 | D93: ED-49187 | E93: SEINFRA | F93: 77118 | G93: CAIXA DE LIGAÇÃO/PASSAGEM EM PVC RÍGIDO PARA ELETRODUTO, DIMENSÃO 4"X2", EMBUTIDA EM ALVENARIA, INCLUSIVE FIXAÇÃO - Obs. Chuveiros e Interruptor banheiro feminino | H93: U | I93: 3 | J93: 11.12 | K93: =ROUND(J93*1.2635,3) -> 14.05 | L93: =I93*K93 -> 42.15
C94: 6.3.2 | D94: ED-49413 | E94: SEINFRA | F94: 102710 | G94: ELETRODUTO FLEXÍVEL CORRUGADO EM PVC, ANTI-CHAMA, DIÂMETRO DE 20MM (1/2"), APLICADO EM ALVENARIA, INCLUSIVE RASGO | H94: M | I94: 4 | J94: 9.3 | K94: =ROUND(J94*1.2635,3) -> 11.751 | L94: =I94*K94 -> 47.004
C95: 6.3.3 | D95: ED-50704 | E95: SEINFRA | F95: 92380 | G95: ENCHIMENTO DE RASGO EM ALVENARIA/CONCRETO COM ARGAMASSA, DIÂMETRO DE 15MM A 25MM (1/2" A 1"), INCLUSIVE ARGAMASSA, TRAÇO 1:2:8 (CIMENTO, CAL E AREIA), COM PREPARO MECANIZADO | H95: M | I95: =I94 -> 4 | J95: 3.01 | K95: 3.803 | L95: =I95*K95 -> 15.212
C96: 6.3.4 | D96: ED-48986 | E96: SEINFRA | F96: 102711 | G96: CABO UNIPOLAR DE COBRE FLEXÍVEL, CLASSE 5, ISOLAMENTO TIPO EPR/HEPR, NÃO HALOGENADO E ANTICHAMA, DIÂMETRO DA SEÇÃO DE 1,5MM2, TEMPERATURA DE TRABALHO 90°C, TENSÃO NOMINAL DE OPERAÇÃO 0,6/1KV | H96: M | I96: 750 | J96: 3.95 | K96: =ROUND(J96*1.2635,3) -> 4.991 | L96: =I96*K96 -> 3743.25
C97: 6.3.5 | D97: ED-48989 | E97: SEINFRA | F97: 92002 | G97: CABO DE COBRE FLEXÍVEL, CLASSE 5, ISOLAMENTO TIPO EPR/ HEPR, NÃO HALOGENADO, ANTICHAMA, TERMOFIXO, UNIPOLAR, SEÇÃO 2,5 MM2, 90°C, 0,6/1KV - Obs. Tomadas simples e refletores | H97: M | I97: 1500 | J97: 5.36 | K97: =ROUND(J97*1.2635,3) -> 6.772 | L97: =K97*I97 -> 10158
C98: 6.3.6 | D98: ED-48995 | E98: SEINFRA | F98: 101841 | G98: CABO UNIPOLAR DE COBRE FLEXÍVEL, CLASSE 5, ISOLAMENTO TIPO EPR/HEPR, NÃO HALOGENADO E ANTICHAMA, DIÂMETRO DA SEÇÃO DE 6MM2, TEMPERATURA DE TRABALHO 90°C, TENSÃO NOMINAL DE OPERAÇÃO 0,6/1KV | H98: M | I98: 120 | J98: 10.32 | K98: =ROUND(J98*1.2635,3) -> 13.039 | L98: =K98*I98 -> 1564.68
C99: 6.3.7 | D99: ED-49001 | E99: SEINFRA | F99: 101218 | G99: CABO UNIPOLAR DE COBRE FLEXÍVEL, CLASSE 5, ISOLAMENTO TIPO EPR/HEPR, NÃO HALOGENADO E ANTICHAMA, DIÂMETRO DA SEÇÃO DE 16MM2, TEMPERATURA DE TRABALHO 90°C, TENSÃO NOMINAL DE OPERAÇÃO 0,6/1KV | H99: M | I99: 210 | J99: 22.62 | K99: =ROUND(J99*1.2635,3) -> 28.58 | L99: =K99*I99 -> 6001.8
C100: 6.3.8 | D100: ED-14186 | E100: SEINFRA | F100: 102712 | G100: QUADRO DE DISTRIBUIÇÃO DE EMBUTIR EM CHAPA, PARA 16 DISJUNTORES DIN, INCLUSIVE BARRAMENTOS NEUTRO/TERRA E BARRAMENTO TRIFÁSICO DE 100A | H100: U | I100: 2 | J100: 411.99 | K100: =ROUND(J100*1.2635,3) -> 520.549 | L100: =K100*I100 -> 1041.098
C101: 6.3.9 | D101: ED-34475 | E101: SEINFRA | F101: 93213 | G101: DISJUNTOR BIPOLAR TIPO DIN, CORRENTE NOMINAL DE 20A, FORNECIMENTO E INSTALAÇÃO, INCLUSIVE TERMINAL ILHÓS | H101: U | I101: 3 | J101: 46.64 | K101: =ROUND(J101*1.2635,3) -> 58.93 | L101: =K101*I101 -> 176.79
C102: 6.3.10 | D102: ED-15114 | E102: SEINFRA | F102: 100657 | G102: DISJUNTOR DE PROTEÇÃO DIFERENCIAL RESIDUAL (DR), BIPOLAR, TIPO DIN, CORRENTE NOMINAL DE 25A, ALTA SENSIBILIDADE, CORRENTE DIFERENCIAL RESIDUAL NOMINAL COM ATUAÇÃO DE 30MA | H102: U | I102: 1 | J102: 137.72 | K102: =ROUND(J102*1.2635,3) -> 174.009 | L102: =K102*I102 -> 174.009
C103: 6.3.11 | D103: ED-34461 | E103: SEINFRA | F103: 102713 | G103: DISJUNTOR MONOPOLAR TIPO DIN, CORRENTE NOMINAL DE 16A, FORNECIMENTO E INSTALAÇÃO, INCLUSIVE TERMINAL ILHÓS | H103: U | I103: 6 | J103: 18.41 | K103: =ROUND(J103*1.2635,3) -> 23.261 | L103: =K103*I103 -> 139.566
...

Sheet Cronograma
C8: CRONOGRAMA FÍSICO-FINANCEIRO
C10: Projeto: | D10: GINÁSIO SÃO PEDRO
C11: Local: | D11: RUA MAESTRO FIRMO, Nº 160 - BAIRRO VILA SÃO PEDRO
C12: ITEM | D12: SERVIÇO | E12: FÍSICO/ FINANCEIRO | F12: TOTAL ETAPAS | G12: MÊS 1 | H12: MÊS 2 | I12: MÊS 3 | J12: MÊS 4 | K12: TOTAL ETAPAS
C14: 1 | D14: =Orçamento!G13 -> SERVIÇOS PRELIMINARES | E14: Físico % | F14: =F15/F35 -> 0.025931631 | G14: 0.3 | H14: 0.225 | I14: 0.225 | J14: 0.25 | K14: =SUM(G14:J14) -> 1
E15: Financeiro | F15: =Orçamento!L19 -> 11403.179 | G15: =G14*F15 -> 3420.9537 | H15: =H14*F15 -> 2565.7153 | I15: =I14*F15 -> 2565.7153 | J15: =J14*F15 -> 2850.7948 | K15: =ROUND(SUM(G15:J15),2) -> 11403.18
C16: 2 | D16: =Orçamento!G20 -> ADMINISTRAÇÃO LOCAL | E16: Físico % | F16: =F17/F35 -> 0.088539038 | G16: 0.25 | H16: 0.25 | I16: 0.25 | J16: 0.25 | K16: =SUM(G16:J16) -> 1
E17: Financeiro | F17: =Orçamento!L23 -> 38934.168 | G17: =G16*F17 -> 9733.542 | H17: =H16*F17 -> 9733.542 | I17: =I16*F17 -> 9733.542 | J17: =J16*F17 -> 9733.542 | K17: =ROUND(SUM(G17:J17),2) -> 38934.17
C18: 3 | D18: =Orçamento!G24 -> DEMOLIÇÕES E REMOÇÕES | E18: Físico % | F18: =F19/F35 -> 0.031158348 | G18: 0.7 | H18: 0.3 | K18: =SUM(G18:J18) -> 1
E19: Financeiro | F19: =Orçamento!L39 -> 13701.576 | G19: =G18*F19 -> 9591.1032 | H19: =H18*F19 -> 4110.4728 | K19: =ROUND(SUM(G19:J19),2) -> 13701.58
C20: 4 | D20: =Orçamento!G40 -> COBERTURA E FORRO | E20: Físico % | F20: =F21/F35 -> 0.028634648 | H20: 0.7 | I20: 0.2 | J20: 0.1 | K20: =SUM(G20:J20) -> 1
E21: Financeiro | F21: =Orçamento!L47 -> 12591.804 | H21: =H20*F21 -> 8814.2628 | I21: =I20*F21 -> 2518.3608 | J21: =J20*F21 -> 1259.1804 | K21: =ROUND(SUM(G21:J21),2) -> 12591.8
C22: 5 | D22: =Orçamento!G48 -> PISOS E REVESTIMENTOS | E22: Físico % | F22: =F23/F35 -> 0.35507172 | G22: 0.15 | H22: 0.55 | I22: 0.3 | K22: =SUM(G22:J22) -> 1
E23: Financeiro | F23: =Orçamento!L79 -> 156139.29 | G23: =G22*F23 -> 23420.893 | H23: =H22*F23 -> 85876.607 | I23: =I22*F23 -> 46841.786 | K23: =ROUND(SUM(G23:J23),2) -> 156139.29
C24: 6 | D24: =Orçamento!G80 -> INSTALAÇÕES ELÉTRICAS | E24: Físico % | F24: =F25/F35 -> 0.067566017 | G24: 0.1 | H24: 0.2 | I24: 0.3 | J24: 0.4 | K24: =SUM(G24:J24) -> 1
E25: Financeiro | F25: =Orçamento!L104 -> 29711.489 | G25: =G24*F25 -> 2971.1489 | H25: =H24*F25 -> 5942.2978 | I25: =I24*F25 -> 8913.4467 | J25: =J24*F25 -> 11884.596 | K25: =ROUND(SUM(G25:J25),2) -> 29711.49
C26: 7 | D26: =Orçamento!G105 -> HIDRÁULICA | E26: Físico % | F26: =F27/F35 -> 0.08001313 | H26: 0.25 | I26: 0.6 | J26: 0.15 | K26: =SUM(G26:J26) -> 1
E27: Financeiro | F27: =Orçamento!L161 -> 35184.984 | H27: =H26*F27 -> 8796.2461 | I27: =I26*F27 -> 21110.991 | J27: =J26*F27 -> 5277.7476 | K27: =ROUND(SUM(G27:J27),2) -> 35184.98
C28: 8 | D28: =Orçamento!G162 -> PINTURA | E28: Físico % | F28: =F29/F35 -> 0.21448667 | H28: 0.15 | I28: 0.7 | J28: 0.15 | K28: =SUM(G28:J28) -> 1
E29: Financeiro | F29: =Orçamento!L180 -> 94318.396 | H29: =H28*F29 -> 14147.759 | I29: =I28*F29 -> 66022.877 | J29: =J28*F29 -> 14147.759 | K29: =ROUND(SUM(G29:J29),2) -> 94318.4
C30: 9 | D30: =Orçamento!G181 -> ESQUADRIAS | E30: Físico % | F30: =F31/F35 -> 0.031829003 | H30: 0.1 | I30: 0.5 | J30: 0.4 | K30: =SUM(G30:J30) -> 1
E31: Financeiro | F31: =Orçamento!L190 -> 13996.49 | H31: =H30*F31 -> 1399.649 | I31: =I30*F31 -> 6998.245 | J31: =J30*F31 -> 5598.596 | K31: =SUM(G31:J31) -> 13996.49
C32: 10 | D32: =Orçamento!G191 -> DIVERSOS | E32: Físico % | F32: =F33/F35 -> 0.076769793 | H32: 0.3 | I32: 0.3 | J32: 0.4 | K32: =SUM(G32:J32) -> 1
E33: Financeiro | F33: =Orçamento!L215 -> 33758.759 | H33: =H32*F33 -> 10127.628 | I33: =I32*F33 -> 10127.628 | J33: =J32*F33 -> 13503.503 | K33: =SUM(G33:J33) -> 33758.759
C34: TOTAL | E34: Físico % | F34: =F30+F28+F326++F24+F22+F20+F18+F16+F14+F32+F26 -> 1 | G34: =G35/F35 -> 0.11174245 | H34: =H35/F35 -> 0.34455391 | I34: =I35/F35 -> 0.39758161 | J34: =J35/F35 -> 0.14612203 | K34: =ROUND(SUM(G34:J34),4) -> 1
E35: Financeiro | F35: =F15+F17+F19+F21+F23+F25+F27+F29+F31+F33 -> 439740.13 | G35: =G15+G17+G19+G21+G23+G25+G27+G29+G31+G33 -> 49137.641 | H35: =H15+H17+H19+H21+H23+H25+H27+H29+H31+H33 -> 151514.18 | I35: =I15+I17+I19+I21+I23+I25+I27+I29+I31+I33 -> 174832.59 | J35: =J15+J17+J19+J21+J23+J25+J27+J29+J31+J33 -> 64255.719 | K35: =F35 -> 439740.13

Sheet Quantitativos Gerais
K5: Paredes | O5: Piso | R5: Teto
K6: Pintura | N6: Revestimento Cerâmico | O6: Porcelanato | P6: Tinta | Q6: Industrial Polido com Tinta Epóxi | R6: Forro de PVC | S6: Tinta
E7: Horizontal | F7: Vertical | G7: Pé-direito | H7: Área | I7: Perímetro | J7: Abertura esquadrias | K7: Latex | L7: Acrílica | M7: Esmalte
D8: Vestiário Fem | E8: 3 | F8: 2.8 | G8: 2.6 | H8: =E8*F8 -> 8.4 | I8: =2*(E8+F8) -> 11.6 | J8: =0.9*2.1+0.8*0.6 -> 2.37 | K8: =I8*G8/3 -> 10.053333 | M8: =I8*G8*2/3 -> 20.106667 | O8: =H8 -> 8.4 | R8: =H8 -> 8.4
D9: Vestiário Masc | E9: =E8 -> 3 | F9: =F8 -> 2.8 | G9: 2.6 | H9: =E9*F9 -> 8.4 | I9: =2*(E9+F9) -> 11.6 | J9: =J8 -> 2.37 | K9: =I9*G9/3 -> 10.053333 | M9: =I9*G9*2/3 -> 20.106667 | O9: =H9 -> 8.4 | R9: =H9 -> 8.4
D10: Banheiro Fem | E10: 2.85 | F10: 3.05 | G10: 2.6 | H10: =E10*F10 -> 8.6925 | I10: =2*(E10+F10) -> 11.8 | J10: =0.9*2.1+1.5*0.6 -> 2.79 | N10: =I10*G10 -> 30.68 | O10: =H10 -> 8.6925 | S10: =H10 -> 8.6925
D11: Banheiro Masc | E11: 3.6 | F11: 3.05 | G11: 2.6 | H11: =E11*F11 -> 10.98 | I11: =2*(E11+F11) -> 13.3 | J11: =J10 -> 2.79 | N11: =I11*G11 -> 34.58 | O11: =H11 -> 10.98 | S11: =H11 -> 10.98
C12: Externo | D12: Área descoberta fundo descoberta | G12: 3 | H12: 64.02 | I12: 44.5 | J12: =J8+J9+J10+J11 -> 10.32 | L12: =(I12*G12-J12)*(2/3) -> 82.12 | M12: =(I12*G12-J12)/3 -> 41.06
D13: Área descoberta fundo coberta | P13: =1.2*7 -> 8.4
D14: Quadra | H14: 445.28 | Q14: =H14 -> 445.28
D15: Corredor | H15: 43.14 | P15: =H15 -> 43.14
D16: Arquibancada | H16: =(1.5+1.2)*28.35 -> 76.545 | P16: =H16 -> 76.545
C17: Paredes Internas Ginásio | D17: Do portão de entrada - | E17: 17.95 | F17: 5 | H17: =E17*F17 -> 89.75 | J17: =2.35*2.1 -> 4.935 | K17: =2.6*2.85 -> 7.41 | M17: =15.1*5+2.85*(1.2+1.2)-J17 -> 77.405
D18: Da arquibancada | E18: 29.7 | F18: =5-0.4*3 -> 3.8 | H18: =E18*F18 -> 112.86 | K18: =E18*F18*2/3 -> 75.24 | M18: =(E18*F18)/3 -> 37.62
D19: Do portão de acesso aos vestiários | E19: 17.95 | F19: 5 | H19: =E19*F19 -> 89.75 | J19: =1.2*2.1 -> 2.52 | K19: =K17 -> 7.41 | M19: =M17 -> 77.405
D20: Da lateral da quadra | E20: 29.7 | F20: 5 | H20: =E20*F20 -> 148.5 | M20: =E20*F20 -> 148.5
C21: Paredes Externas | D21: Frontal -2,1m barrado esmalte | E21: 18.5 | F21: 5 | J21: =2.35*2.1 -> 4.935 | L21: =E21*2.9 -> 53.65 | M21: =E21*2.1-J21 -> 33.915
D22: Frontal área de desnível | E22: 18.5 | F22: 0.85 | M22: =E22*F22 -> 15.725
D23: Lateral Esquerda Ginásio | E23: =30.1+3.25 -> 33.35 | F23: 5.35 | L23: =E23*F23 -> 178.4225
D24: Lateral Esquerda Ginásio área de desnível | E24: =E23/2 -> 16.675 | F24: 0.85 | M24: =E24*F24 -> 14.17375
D25: Lateral Esquerda Muro | E25: 6.85 | F25: 5.35 | J25: =0.8*1.9 -> 1.52 | L25: =E25*F25-J25 -> 35.1275
D26: Calçada, estacionamento e rampa portão | P26: 221.9
K27: =SUM(K8:K26) -> 110.16667 | L27: =SUM(L8:L26) -> 349.32 | M27: =SUM(M8:M26) -> 486.01708 | N27: =SUM(N8:N26) -> 65.26 | O27: =SUM(O8:O26) -> 36.4725 | P27: =SUM(P8:P26) -> 349.985 | R27: =SUM(R8:R9) -> 16.8 | S27: =SUM(S7:S26) -> 19.6725
O28: =O27*1.1 -> 40.11975
