Workbook

Sheet BDI-SEM DESONERAÇÃO
A1: DEMONSTRATIVO DO BDI - SEM DESONERAÇÃO - OBRA RODOVIÁRIA
A3: BDI (CONFORME ACÓRDÃO Nº 2622/13 e LEI Nº 13.161 DE 31/08/15)
A4: DISCRIMINAÇÃO DAS PARCELAS | B4: SIG. (1) | C4: CONSTRUÇÃO DE RODOVIAS E FERROVIAS | J4: INC. (6)
C5: ISS (2) | G5: DIFERENCIADO
C6: 0.02 | D6: 0.03 | E6: 0.04 | F6: 0.05 | G6: MATERIAL (5) | H6: SERVIÇO TERCEIRIZADO (4) (ISS=5%) | I6: EQUIPAMENTO (3) (ISS=5%)
A7: CUSTO DIRETO | B7: CD | C7: 1 | D7: 1 | E7: 1 | F7: 1 | G7: 1 | H7: 1 | I7: 1
A8: ADMINISTRAÇÃO CENTRAL | B8: AC | C8: 0.0467 | D8: 0.0467 | E8: 0.0467 | F8: 0.0467 | G8: 0.0342 | H8: 0.0401 | I8: 0.0342 | J8: CD
A9: LUCRO BRUTO | B9: L | C9: 0.0753 | D9: 0.0753 | E9: 0.0753 | F9: 0.0753 | G9: 0.0494 | H9: 0.0664 | I9: 0.0494 | J9: CD
A10: DESPESAS FINANCEIRAS | B10: DF | C10: 0.010477 | D10: 0.010477 | E10: 0.010477 | F10: 0.010477 | G10: 0.010477 | H10: 0.010477 | I10: 0.010477 | J10: CD
A11: SEGUROS, GARANTIAS E RISCO | C11: =SUM(C12:C13) -> 0.0171 | D11: =SUM(D12:D13) -> 0.0171 | E11: =SUM(E12:E13) -> 0.0171 | F11: =SUM(F12:F13) -> 0.0171 | G11: =SUM(G12:G13) -> 0.0129 | H11: =SUM(H12:H13) -> 0.0082 | I11: =SUM(I12:I13) -> 0.0129 | J11: CD
A12: SEGUROS + GARANTIAS | B12: S | C12: 0.0074 | D12: 0.0074 | E12: 0.0074 | F12: 0.0074 | G12: 0.0053 | H12: 0.0032 | I12: 0.0053 | J12: CD
A13: RISCO(*) | B13: R | C13: 0.0097 | D13: 0.0097 | E13: 0.0097 | F13: 0.0097 | G13: 0.0076 | H13: 0.005 | I13: 0.0076 | J13: CD
A14: TRIBUTOS | B14: I | C14: =SUM(C15:C17) -> 0.0505 | D14: =SUM(D15:D17) -> 0.0575 | E14: =SUM(E15:E17) -> 0.0645 | F14: =SUM(F15:F17) -> 0.0715 | G14: =SUM(G15:G17) -> 0.0365 | H14: =SUM(H15:H17) -> 0.0615 | I14: =SUM(I15:I17) -> 0.0615 | J14: PV
A15: ISS | B15: ISS(2) | C15: 0.014 | D15: 0.021 | E15: 0.028 | F15: 0.035 | G15: - | H15: 0.025 | I15: 0.025 | J15: PV
A16: PIS | B16: PIS | C16: 0.0065 | D16: 0.0065 | E16: 0.0065 | F16: 0.0065 | G16: 0.0065 | H16: 0.0065 | I16: 0.0065 | J16: PV
A17: COFINS | B17: - | C17: 0.03 | D17: 0.03 | E17: 0.03 | F17: 0.03 | G17: 0.03 | H17: 0.03 | I17: 0.03 | J17: PV
A18: CPRB (7) | B18: INSS | C18: 0 | D18: 0 | E18: 0 | F18: 0 | G18: 0 | H18: 0 | I18: 0 | J18: PV
A20: FÓRMULA DO BDI | C20: (1 + (AC + S + G + R)) x (1 + DF) x (1 + L)
C21: (1 - (I + CPRB))
A22: BDI (NUMERADOR) | C22: =(1+(C8+C11))*(1+C10)*(1+C9)-1 -> 0.15588882 | D22: =(1+(D8+D11))*(1+D10)*(1+D9)-1 -> 0.15588882 | E22: =(1+(E8+E11))*(1+E10)*(1+E9)-1 -> 0.15588882 | F22: =(1+(F8+F11))*(1+F10)*(1+F9)-1 -> 0.15588882 | G22: =(1+(G8+G11))*(1+G10)*(1+G9)-1 -> 0.11033915 | H22: =(1+(H8+H11))*(1+H10)*(1+H9)-1 -> 0.12961943 | I22: =(1+(I8+I11))*(1+I10)*(1+I9)-1 -> 0.11033915
A23: BDI (DENOMINADOR) | C23: =(1-(C14+C18)) -> 0.9495 | D23: =(1-(D14+D18)) -> 0.9425 | E23: =(1-(E14+E18)) -> 0.9355 | F23: =(1-(F14+F18)) -> 0.9285 | G23: =(1-(G14+G18)) -> 0.9635 | H23: =(1-(H14+H18)) -> 0.9385 | I23: =(1-(I14+I18)) -> 0.9385
A24: BDI | C24: =(1+C22)/C23-1 -> 0.2173658 | D24: =(1+D22)/D23-1 -> 0.22640724 | E24: =(1+E22)/E23-1 -> 0.23558399 | F24: =(1+F22)/F23-1 -> 0.24489911 | G24: =(1+G22)/G23-1 -> 0.15240181 | H24: =(1+H22)/H23-1 -> 0.20364351 | I24: =(1+I22)/I23-1 -> 0.18309978
A26: OBSERVAÇÕES
A27: (1) SIGLA. (2) INCIDÊNCIA DE ISS EM 70% DO PREÇO DE VENDA, COM PERCENTUAIS DE 2%, 3%, 4% E 5%. (3) BDI DIFERENCIADO A SER APLICADO EM LOCAÇÃO DE CUSTO HORÁRIO DE EQUIPAMENTO. (4) BDI DIFERENCIADO A SER APLICADO PARA SERVIÇOS TERCEIRIZADOS. (5) BDI DIFERENCIADO A SER APLICADO PARA FORNECIMENTO DE MATERIAL BETUMINOSO E MATERIAL DE JAZIDA. (6) INCIDÊNCIA. (7) TRANSIÇÃO DESONERAÇÃO LEI Nº 14.973, DE 16 DE SETEMBRO DE 2024.
A28: *Informamos que está em análise o pleito apresentado pelo Ofício nº 042/24-S, do Sindicato da Indústria da Construção Pesada de Minas Gerais (SICEPOT-MG), referente ao posicionamento do colegiado da Segunda Turma do Superior Tribunal de Justiça (STJ), no AREsp nº 2.486.358/SP, relatado pelo Ministro Herman Benjamin, julgado em 13/05/2024, com publicação no DJe de 29/05/2024, que versa sobre a aplicação da dedução na base de cálculo do Imposto Sobre Serviços de Qualquer Natureza (ISSQN).

Sheet Tabela Referencial - Setop
A3: TABELA REFERENCIAL DE PREÇOS UNITÁRIOS PARA OBRAS DE EDIFICAÇÃO
A5: TABELA REFERENCIAL DE PREÇOS UNITÁRIOS PARA OBRAS DE EDIFICAÇÃO
A6: Região Triângulo e Alto Paranaíba - S/ Desoneração
A7: OUTUBRO/2025
A10: CÓDIGO | C10: DESCRIÇÃO DO SERVIÇO | G10: UNIDADE | H10: CUSTO UNITÁRIO
A11: 8663 | C11: SERVIÇOS PRELIMINARES
A12: 8702 | C12: LIMPEZA DO TERRENO
A13: ED-50701 | C13: CAPINA MANUAL DO TERRENO, EXCLUSIVE RASTELAMENTO E QUEIMA | G13: m2 | H13: 1.51
A14: ED-28163 | C14: DESTOCAMENTO E AFASTAMENTO DE REMANESCENTE ARBÓREO, INCLUSIVE TRANSPORTE COM RETIRADA DO MATERIAL DESTOCADO (EM CAÇAMBA) | G14: un | H14: 419.38
A15: ED-50703 | C15: LIMPEZA DE TERRENO, INCLUSIVE CAPINA, RASTELAMENTO COM AFASTAMENTO ATÉ VINTE (20) METROS E QUEIMA CONTROLADA | G15: m2 | H15: 2.68
A16: ED-8143 | C16: RASTELAMENTO DE ÁREA COM AFASTAMENTO DE ATÉ VINTE (20) METROS, EXCLUSIVE CAPINA OU ROÇADA MANUAL | G16: m2 | H16: 1.01
A17: ED-28162 | C17: ROÇADA MANUAL DE TERRENO COM ROÇADEIRA COSTAL, EXCLUSIVE RASTELAMENTO E QUEIMA | G17: m2 | H17: 0.29
A18: 8703 | C18: DESMATAMENTO E DESTOCAMENTO
A19: ED-50702 | C19: DESMATAMENTO, DESTOCAMENTO E LIMPEZA, INCLUSIVE TRANSPORTE ATÉ CINQUENTA (50) METROS | G19: m2 | H19: 0.59
A20: 8704 | C20: SUPRESSÃO DE ÁRVORE
A21: ED-50699 | C21: CORTE DE ÁRVORE COM MOTOSSERRA, DIÂMETRO DO TRONCO ACIMA DE TRINTA (30) CENTÍMETROS ATÉ CINQUENTA (50) CENTÍMETROS, EXCLUSIVE DESTOCAMENTO E AFASTAMENTO | G21: un | H21: 104.39
A22: ED-50697 | C22: CORTE DE ÁRVORE COM MOTOSSERRA, DIÂMETRO DO TRONCO DE QUINZE (15) CENTÍMETROS ATÉ TRINTA (30) CENTÍMETROS, EXCLUSIVE DESTOCAMENTO E AFASTAMENTO | G22: un | H22: 62.63
A23: 8706 | C23: REMOÇÃO DE TELHADO
A24: ED-48438 | C24: REMOÇÃO DE CALHA EM CHAPA GALVANIZADA OU EM PVC, COM REAPROVEITAMENTO, INCLUSIVE AFASTAMENTO E EMPILHAMENTO, EXCLUSIVE TRANSPORTE E RETIRADA DO MATERIAL REMOVIDO NÃO REAPROVEITÁVEL | G24: m | H24: 5.26
A25: ED-48446 | C25: REMOÇÃO MANUAL DE CONDUTOR EM PVC OU METÁLICO, COM REAPROVEITAMENTO, INCLUSIVE AFASTAMENTO E EMPILHAMENTO, EXCLUSIVE TRANSPORTE E RETIRADA DO MATERIAL REMOVIDO NÃO REAPROVEITÁVEL | G25: m | H25: 6.3
A26: ED-48455 | C26: REMOÇÃO MANUAL DE ENGRADAMENTO PARA TELHA TIPO CALHA ESTRUTURAL EM FIBROCIMENTO, COM REAPROVEITAMENTO, INCLUSIVE AFASTAMENTO E EMPILHAMENTO, EXCLUSIVE TRANSPORTE E RETIRADA DO MATERIAL REMOVIDO NÃO REAPROVEITÁVEL | G26: m2 | H26: 12.68
A27: ED-48457 | C27: REMOÇÃO MANUAL DE ENGRADAMENTO PARA TELHA TIPO CERÂMICA OU CONCRETO, INCLUSIVE AFASTAMENTO E EMPILHAMENTO, EXCLUSIVE TRANSPORTE E RETIRADA DO MATERIAL REMOVIDO NÃO REAPROVEITÁVEL | G27: m2 | H27: 25.36
A28: ED-48454 | C28: REMOÇÃO MANUAL DE ENGRADAMENTO PARA TELHA TIPO METÁLICA, PVC OU FIBROCIMENTO, COM REAPROVEITAMENTO, INCLUSIVE AFASTAMENTO E EMPILHAMENTO, EXCLUSIVE TRANSPORTE E RETIRADA DO MATERIAL REMOVIDO NÃO REAPROVEITÁVEL | G28: m2 | H28: 16.9
A29: ED-48506 | C29: REMOÇÃO MANUAL DE RUFO METÁLICO, COM REAPROVEITAMENTO, INCLUSIVE AFASTAMENTO E EMPILHAMENTO, EXCLUSIVE TRANSPORTE E RETIRADA DO MATERIAL REMOVIDO NÃO REAPROVEITÁVEL | G29: m | H29: 7.72
A30: ED-48512 | C30: REMOÇÃO MANUAL DE TELHA EM FIBROCIMENTO, TIPO ONDULADA, COM REAPROVEITAMENTO, INCLUSIVE AFASTAMENTO E EMPILHAMENTO, EXCLUSIVE TRANSPORTE E RETIRADA DO MATERIAL REMOVIDO NÃO REAPROVEITÁVEL | G30: m2 | H30: 14.49
A31: ED-48514 | C31: REMOÇÃO MANUAL DE TELHA CERÂMICA, COM REAPROVEITAMENTO, INCLUSIVE AFASTAMENTO E EMPILHAMENTO, EXCLUSIVE TRANSPORTE E RETIRADA DO MATERIAL REMOVIDO NÃO REAPROVEITÁVEL | G31: m2 | H31: 27.29
A32: ED-48510 | C32: REMOÇÃO MANUAL DE TELHA EM FIBROCIMENTO, TIPO CALHA ESTRUTURAL, COM REAPROVEITAMENTO, INCLUSIVE IÇAMENTO, AFASTAMENTO E EMPILHAMENTO, EXCLUSIVE TRANSPORTE E RETIRADA DO MATERIAL REMOVIDO NÃO REAPROVEITÁVEL | G32: m2 | H32: 27.52
A33: ED-48509 | C33: REMOÇÃO MANUAL DE TELHA METÁLICA OU PVC, COM REAPROVEITAMENTO, INCLUSIVE AFASTAMENTO E EMPILHAMENTO, EXCLUSIVE TRANSPORTE E RETIRADA DO MATERIAL REMOVIDO NÃO REAPROVEITÁVEL | G33: m2 | H33: 10.14
A34: 8707 | C34: DEMOLIÇÃO E REMOÇÃO DE INSTALAÇÃO
A35: ED-48500 | C35: DEMOLIÇÃO MANUAL DE TUBULAÇÕES EMBUTIDAS DE REDE (ÁGUA, ELÉTRICA, GASES, ETC.), INCLUSIVE RASGO EM ALVENARIA, REMOÇÃO DE ACESSÓRIOS DE FIXAÇÃO, AFASTAMENTO E EMPILHAMENTO, EXCLUSIVE TRANSPORTE E RETIRADA DO MATERIAL DEMOLIDO | G35: m | H35: 9.45
A36: ED-48466 | C36: REMOÇÃO MANUAL DE INTERFONE, COM REAPROVEITAMENTO, INCLUSIVE AFASTAMENTO E EMPILHAMENTO, EXCLUSIVE TRANSPORTE E RETIRADA DO MATERIAL REMOVIDO NÃO REAPROVEITÁVEL | G36: un | H36: 49.78
A37: ED-48468 | C37: REMOÇÃO MANUAL DE LUMINÁRIA COMERCIAL, EMBUTIDA OU SOBREPOR, COM REAPROVEITAMENTO, INCLUSIVE AFASTAMENTO E EMPILHAMENTO, EXCLUSIVE TRANSPORTE E RETIRADA DO MATERIAL REMOVIDO NÃO REAPROVEITÁVEL | G37: un | H37: 11.98
A38: ED-48469 | C38: REMOÇÃO MANUAL DE LUMINÁRIA COMPACTA (PLAFON, PAINEL LED, ETC.) EMBUTIDA OU SOBREPOR, COM REAPROVEITAMENTO, INCLUSIVE AFASTAMENTO E EMPILHAMENTO, EXCLUSIVE TRANSPORTE E RETIRADA DO MATERIAL REMOVIDO NÃO REAPROVEITÁVEL | G38: un | H38: 6.99
A39: ED-48499 | C39: REMOÇÃO MANUAL DE REDES DE DUTOS PARA CLIMATIZAÇÃO, INCLUSIVE AFASTAMENTO E EMPILHAMENTO, EXCLUSIVE TRANSPORTE E RETIRADA DO MATERIAL REMOVIDO NÃO REAPROVEITÁVEL | G39: m | H39: 10.5
A40: ED-48515 | C40: REMOÇÃO MANUAL DE TUBULAÇÕES EMBUTIDAS DE REDE (ÁGUA, ELÉTRICA, GASES, ETC.), COM REAPROVEITAMENTO, INCLUSIVE RASGO EM ALVENARIA, REMOÇÃO DE ACESSÓRIOS DE FIXAÇÃO, AFASTAMENTO E EMPILHAMENTO, EXCLUSIVE TRANSPORTE E RETIRADA DO MATERIAL REMOVIDO NÃO REAPROVEITÁVEL | G40: m | H40: 13.65
A41: 8708 | C41: DEMOLIÇÃO DE FORRO
A42: ED-48463 | C42: DEMOLIÇÃO MANUAL DE FORRO DE CHAPA OU PLACA DE GESSO, INCLUSIVE DEMOLIÇÃO DA ESTRUTURA DE SUSTENTAÇÃO, AFASTAMENTO E EMPILHAMENTO, EXCLUSIVE TRANSPORTE E RETIRADA DO MATERIAL DEMOLIDO | G42: m2 | H42: 6.24
A43: 8709 | C43: REMOÇÃO DE FORRO
A44: ED-48460 | C44: REMOÇÃO MANUAL DE FORRO DE PLACAS (GESSO, MINERAL, FIBRA, ISOPOR, COLMEIA, PVC, ETC.), COM REAPROVEITAMENTO, INCLUSIVE AFASTAMENTO E EMPILHAMENTO, EXCLUSIVE DEMOLIÇÃO DA ESTRUTURA DE SUSTENTAÇÃO, TRANSPORTE E RETIRADA DO MATERIAL REMOVIDO NÃO REAPROVEITÁVEL | G44: m2 | H44: 2.36
A45: ED-48459 | C45: REMOÇÃO MANUAL DE FORRO DE PLACAS (GESSO, MINERAL, FIBRA, ISOPOR, COLMEIA, PVC, ETC.), COM REAPROVEITAMENTO, INCLUSIVE DEMOLIÇÃO ESTRUTURA DE SUSTENTAÇÃO, AFASTAMENTO E EMPILHAMENTO, EXCLUSIVE TRANSPORTE E RETIRADA DO MATERIAL REMOVIDO NÃO REAPROVEITÁVEL | G45: m2 | H45: 7.09
...

Sheet Tabela Ref.- Sudecap Consul.
C1: TABELA MENSAL DE PREÇO UNITÁRIO
C2: MÊS DE REFERÊNCIA: 09.2025
C3: Onerada
A5: CÓDIGO | B5: ORIGEM | C5: DESCRICAO | D5: UND | E5: VALOR | F5: PREÇO DE VENDA | G5: FATOR MULTIPLICADOR
A6: 61 | C6: PESSOAL
A7: 61.11 | B7: SUDECAP | C7: ENGENHEIRO/ARQUITETO PARA ELABORACAO DE PROJETOS
A8: 61.11.01 | B8: SUDECAP | C8: ENGENHEIRO CONSULTOR ESPECIAL | D8: H | E8: 227.45 | F8: 290.44531 | G8: 0.27696333
A9: 61.11.02 | B9: SUDECAP | C9: ENGENHEIRO CONSULTOR | D9: H | E9: 207.99 | F9: 265.58092 | G9: 0.27689273
A10: 61.11.03 | B10: SUDECAP | C10: ENGENHEIRO COORDENADOR | D10: H | E10: 188.52 | F10: 240.71625 | G10: 0.27687382
A11: 61.11.04 | B11: SUDECAP | C11: ENGENHEIRO SENIOR | D11: H | E11: 169.05 | F11: 215.85186 | G11: 0.2768522
A12: 61.11.05 | B12: SUDECAP | C12: ENGENHEIRO INTERMEDIARIO | D12: H | E12: 149.58 | F12: 190.9872 | G12: 0.27682308
A13: 61.11.06 | B13: SUDECAP | C13: ENGENHEIRO JUNIOR | D13: H | E13: 132.86 | F13: 169.16936 | G13: 0.27329035
A14: 61.11.07 | B14: SUDECAP | C14: ENGENHEIRO TRAINEE | D14: H | E14: 94.53 | F14: 120.21944 | G14: 0.27175965
A15: 61.11.08 | B15: SUDECAP | C15: ARQUITETO CONSULTOR ESPECIAL | D15: H | E15: 227.45 | F15: 290.44531 | G15: 0.27696333
A16: 61.11.09 | B16: SUDECAP | C16: ARQUITETO CONSULTOR | D16: H | E16: 207.99 | F16: 265.58092 | G16: 0.27689273
A17: 61.11.10 | B17: SUDECAP | C17: ARQUITETO COORDENADOR | D17: H | E17: 188.52 | F17: 240.71625 | G17: 0.27687382
A18: 61.11.11 | B18: SUDECAP | C18: ARQUITETO SÊNIOR | D18: H | E18: 169.05 | F18: 215.85186 | G18: 0.2768522
A19: 61.11.12 | B19: SUDECAP | C19: ARQUITETO INTERMEDIÁRIO | D19: H | E19: 149.58 | F19: 190.9872 | G19: 0.27682308
... A24: 61.11.17 | B24: SUDECAP | C24: ESTAGIÁRIO DE NÍVEL SUPERIOR - 04 HORAS | D24: H | E24: 13.66 | F24: 16.697152 | G24: 0.22233906
A25: 61.12 | B25: SUDECAP | C25: AUXILIAR DE ENGENHARIA/ARQUITETURA
A26: 61.12.01 | B26: SUDECAP | C26: AUXILIAR DE ENGENHARIA PARA PROJETOS | D26: H | E26: 26.61 | F26: 33.298602 | G26: 0.25135671
A27: 61.12.02 | B27: SUDECAP | C27: AUXILIAR DE ARQUITETURA PARA PROJETOS | D27: H | E27: 26.61 | F27: 33.298602 | G27: 0.25135671
A28: 61.13 | B28: SUDECAP | C28: PROJETISTA PARA ELABORACAO DE PROJETOS
A29: 61.13.01 | B29: SUDECAP | C29: PROJETISTA SENIOR | D29: H | E29: 38.78 | F29: 48.908996 | G29: 0.26119123
A30: 61.13.02 | B30: SUDECAP | C30: PROJETISTA INTERMEDIARIO | D30: H | E30: 34.64 | F30: 43.59487 | G30: 0.25851241
A31: 61.13.03 | B31: SUDECAP | C31: PROJETISTA JUNIOR | D31: H | E31: 30.92 | F31: 38.825505 | G31: 0.2556761
A32: 61.13.04 | B32: SUDECAP | C32: PROJETISTA CADISTA | D32: H | E32: 38.78 | F32: 48.908996 | G32: 0.26119123
A33: 61.14 | B33: SUDECAP | C33: TECNICO PARA ELABORACAO DE PROJETOS
A34: 61.14.01 | B34: SUDECAP | C34: TECNICO SENIOR | D34: H | E34: 38.78 | F34: 48.908996 | G34: 0.26119123
A35: 61.14.02 | B35: SUDECAP | C35: TECNICO INTERMEDIARIO | D35: H | E35: 34.64 | F35: 43.59487 | G35: 0.25851241
A36: 61.14.03 | B36: SUDECAP | C36: TECNICO JUNIOR | D36: H | E36: 30.92 | F36: 38.825505 | G36: 0.2556761
A37: 61.15 | B37: SUDECAP | C37: DESENHISTA PARA ELABORACAO DE PROJETOS
A38: 61.15.01 | B38: SUDECAP | C38: DESENHISTA PROJETISTA | D38: H | E38: 34.64 | F38: 43.59487 | G38: 0.25851241
A39: 61.15.02 | B39: SUDECAP | C39: DESENHISTA TECNICO / CADISTA | D39: H | E39: 30.92 | F39: 38.825505 | G39: 0.2556761
A40: 61.15.03 | B40: SUDECAP | C40: DESENHISTA COPISTA | D40: H | E40: 21.55 | F40: 26.817443 | G40: 0.24442893
A41: 61.16 | B41: SUDECAP | C41: SERVICOS ADMINISTRATIVOS
A42: 61.16.01 | B42: SUDECAP | C42: AUXILIAR ADMINISTRATIVO SENIOR | D42: H | E42: 32.5 | F42: 40.858297 | G42: 0.25717836
A43: 61.16.02 | B43: SUDECAP | C43: AUXILIAR ADMINISTRATIVO INTERMEDIARIO | D43: H | E43: 29.29 | F43: 36.745635 | G43: 0.25454541
A44: 61.16.03 | B44: SUDECAP | C44: AUXILIAR ADMINISTRATIVO JUNIOR | D44: H | E44: 26.09 | F44: 32.632574 | G44: 0.25076942
A45: 61.21 | B45: SUDECAP | C45: ENGENHEIRO/ARQUITETO PARA SUPERVISAO DE OBRAS
...

Sheet Tabela Referencial - Sudecap
C1: TABELA MENSAL DE PREÇO UNITÁRIO
C2: MÊS DE REFERÊNCIA: 09/25
C3: Onerada SEM BDI
A4: CÓDIGO | B4: ORIGEM | C4: DESCRICAO | D4: UND | E4: VALOR
A5: 01 | C5: INSTALAÇÃO DA OBRA
A6: 01.01 | B6: SUDECAP | C6: ESCRITÓRIO DE OBRA
A7: 01.01.13 | B7: SUDECAP | C7: LAVABO | D7: UN | E7: 3589.03
A8: 01.01.20 | B8: SUDECAP | C8: ESCRITÓRIO DA CONTRATADA - ATÉ 15M2 | D8: M2 | E8: 565.3
A9: 01.01.21 | B9: SUDECAP | C9: ESCRITÓRIO DA CONTRATADA - ATÉ 22M2 | D9: M2 | E9: 519.84
A10: 01.01.22 | B10: SUDECAP | C10: ESCRITÓRIO DA FISCALIZAÇÃO - ATÉ 15M2 | D10: M2 | E10: 565.3
A11: 01.01.23 | B11: SUDECAP | C11: ESCRITÓRIO DA FISCALIZAÇÃO - ATÉ 22M2 | D11: M2 | E11: 519.84
A12: 01.02 | B12: SUDECAP | C12: BARRACÃO DE OBRA
A13: 01.02.10 | B13: SUDECAP | C13: ÁREA COBERTA EM TELHA DE FIBROCIMENTO | D13: M2 | E13: 119.74
A14: 01.02.30 | B14: SUDECAP | C14: VESTIÁRIO PARA ATÉ 20 PESSOAS | D14: M2 | E14: 340.34
A15: 01.02.31 | B15: SUDECAP | C15: VESTIÁRIO PARA ATÉ 30 PESSOAS | D15: M2 | E15: 317.07
A16: 01.02.32 | B16: SUDECAP | C16: VESTIÁRIO PARA ATÉ 40 PESSOAS | D16: M2 | E16: 301.55
A17: 01.02.35 | B17: SUDECAP | C17: DEPÓSITO E FERRAMENTARIA - ATÉ 15 M2 | D17: M2 | E17: 499.82
A18: 01.02.36 | B18: SUDECAP | C18: DEPÓSITO E FERRAMENTARIA - ATÉ 26M2 | D18: M2 | E18: 443.64
A19: 01.02.37 | B19: SUDECAP | C19: DEPÓSITO E FERRAMENTARIA - ATÉ 33M2 | D19: M2 | E19: 430.09
A20: 01.02.38 | B20: SUDECAP | C20: DEPÓSITO DE MATERIAIS ENSACADOS - ATÉ 15 M2 | D20: M2 | E20: 405.34
A21: 01.02.40 | B21: SUDECAP | C21: REFEITÓRIO - ATÉ 19M2 | D21: M2 | E21: 469.1
A22: 01.02.41 | B22: SUDECAP | C22: REFEITÓRIO- ATÉ 26M2 | D22: M2 | E22: 452.66
A23: 01.02.45 | B23: SUDECAP | C23: INSTALAÇÃO SANITÁRIA / VESTIÁRIO PARA ATÉ 4 PESSOAS | D23: M2 | E23: 692.93
A24: 01.02.46 | B24: SUDECAP | C24: INSTALAÇÃO SANITÁRIA - ATÉ 15M2 | D24: M2 | E24: 610.95
... A26: 01.02.48 | B26: SUDECAP | C26: INSTALAÇÃO SANITÁRIA - ATÉ 33M2 | D26: M2 | E26: 546.44
A27: 01.03 | B27: SUDECAP | C27: PLACA DE OBRA AFIXADA COM PEÇAS DE MADEIRA
A28: 01.03.01 | B28: SUDECAP | C28: PLACA DE OBRA 3,0 X 2,0M EM LONA IMPRESSÃO DIGITAL PADRÃO SUDECAP | D28: UN | E28: 1603.73
A29: 01.03.02 | B29: SUDECAP | C29: PLACA DE OBRA EM LONA IMPRESSÃO DIGITAL PADRÃO SUDECAP | D29: M2 | E29: 196.83
A30: 01.03.03 | B30: SUDECAP | C30: PLACA DE OBRA EM CHAPA GALVANIZADA ADESIVADA, DIMENSÕES 2,40 X 1,20 M, PADRÃO CEF | D30: M2 | E30: 509.62
A31: 01.04 | B31: SUDECAP | C31: TAPUME PADRÃO SUDECAP
A32: 01.04.01 | B32: SUDECAP | C32: TAPUME PADRÃO SUDECAP, DE COMPENSADO 10MM, COM FIXAÇÃO ENTERRADA | D32: M | E32: 109.16
A33: 01.04.03 | B33: SUDECAP | C33: TAPUME PADRÃO SUDECAP DE COMPENSADO 10MM COM BASE DE CONCRETO | D33: M | E33: 115.46
A34: 01.04.05 | B34: SUDECAP | C34: INFORME PUBLICITÁRIO, LONA IMPRESSÃO DIGITAL APLICADO EM TAPUME | D34: M2 | E34: 82.9
A35: 01.04.06 | B35: SUDECAP | C35: TAPUME PADRÃO SUDECAP DE TELA GALVANIZADA #2" FIO 14 COM FIXAÇAO ENTERRADA | D35: M | E35: 70.88
A36: 01.04.07 | B36: SUDECAP | C36: TAPUME PADRÃO SUDECAP DE TELA GALVANIZADA #2" FIO 14 COM BASE DE CONCRETO | D36: M | E36: 74.29
A37: 01.04.09 | B37: SUDECAP | C37: TELA - TAPUME DE POLIPROPILENO H=1,20 M, INCLUSIVE BASE | D37: M | E37: 13.25
A38: 01.04.10 | B38: SUDECAP | C38: PROTEÇAO COM FITA ZEBRADA AMARELA L=7CM E PEÇA 7X7 | D38: M | E38: 10.04
A39: 01.04.11 | B39: SUDECAP | C39: FITA ZEBRADA AMARELA PARA SINALIZAÇAO L= 7CM | D39: M | E39: 3.79
A40: 01.04.16 | B40: SUDECAP | C40: TAPUME METÁLICO COM BASE DE CONCRETO (M) | D40: M | E40: 116.91
A41: 01.04.17 | B41: SUDECAP | C41: TAPUME METÁLICO COM BASE ENTERRADA (M) | D41: M | E41: 103.03
...

Sheet Memoria de Calculo
A2: MEMÓRIA DE CÁLCULO DE QUANTITATIVOS
A3: ='Planilha Orçamentaria'!A3:E3 -> PREFEITURA MUNICIPAL DE ARAXÁ/MG
A4: ='Planilha Orçamentaria'!A4:E4 -> OBRA: RECUPERAÇÃO DE EROSÃO E EXECUÇÃO DE REDE DRENAGEM PLUVIAL
A5: ='Planilha Orçamentaria'!A5:E5 -> LOCAL: RUA ADOLFO FONTES SOBRINHO- BAIRRO JARDIM AMÉRICA, MUNICIPIO DE ARAXÁ/MG
J6: Data: | K6: =TODAY() -> 46078
A8: ITEM | B8: CÓDIGO | C8: SERVIÇOS
A10: 1.0 | C10: ='[1]Planilha Orcamentária'!D10 -> SERVIÇOS PRELIMINARES
A12: 1.1 | B12: ='Planilha Orçamentaria'!C11 -> ED-28427 | C12: ='Planilha Orçamentaria'!D11 -> FORNECIMENTO E COLOCAÇÃO DE PLACA DE OBRA EM CHAPA GALVANIZADA #26, ESP. 0,45MM, DIMENSÃO (3X1,5)M, PLOTADA COM ADESIVO VINÍLICO, AFIXADA COM REBITES 4,8X40MM, EM ESTRUTURA METÁLICA DE METALON 20X20MM, ESP. 1,25MM, INCLUSIVE SUPORTE EM EUCALIPTO AUTOCLAVADO PINTADO COM TINTA PVA DUAS (2) DEMÃOS
A14: Quantidade = | B14: 1 | C14: und
A16: ='[1]Planilha Orcamentária'!A12 -> 1.2 | B16: ='Planilha Orçamentaria'!C12 -> ED-16350 | C16: ='Planilha Orçamentaria'!D12 -> LOCAÇÃO DE CONTAINER COM ISOLAMENTO TÉRMICO, TIPO 3, PARA DEPÓSITO/FERRAMENTARIA DE OBRA, COM MEDIDAS REFERENCIAIS DE (6) METROS COMPRIMENTO, (2,3) METROS LARGURA E (2,5) METROS ALTURA ÚTIL INTERNA, INCLUSIVE LIGAÇÕES ELÉTRICAS INTERNAS, EXCLUSIVE MOBILIZAÇÃO/DESMOBILIZAÇÃO E LIGAÇÕES PROVISÓRIAS EXTERNAS
A18: Quantidade = | B18: 4 | C18: Mês
A20: 1.3 | B20: ='Planilha Orçamentaria'!C13 -> ED-50155 | C20: ='Planilha Orçamentaria'!D13 -> LOCAÇÃO DE BANHEIRO QUÍMICO, DIMENSÃO (110X120X230)CM, LINHA PADRÃO, CONTENDO UMA (1) PIA/HIGIENIZADOR DE MÃOS, INCLUSIVE MANUTENÇÃO E MOBILIZAÇÃO/DESMOBILIZAÇÃO
A22: Quantidade = | B22: 4 | C22: Mês
A24: 1.4 | B24: ='Planilha Orçamentaria'!C14 -> ED-50151 | C24: ='Planilha Orçamentaria'!D14 -> LIGAÇÃO PROVISÓRIA COM ENTRADA DE ENERGIA AÉREA, PADRÃO CEMIG, CARGA INSTALADA DE 15,1KVA ATÉ 30KVA, TRIFÁSICO, COM SAÍDA SUBTERRÂNEA, INCLUSIVE POSTE, CAIXA PARA MEDIDOR, DISJUNTOR, BARRAMENTO, ATERRAMENTO E ACESSÓRIOS
A26: Quantidade = | B26: 1 | C26: und
A28: 1.5 | B28: ='Planilha Orçamentaria'!C15 -> ED-27006 | C28: ='Planilha Orçamentaria'!D15 -> CONE PARA SINALIZAÇÃO/ISOLAMENTO DE ÁREAS, ALTURA 75CM , INCLUSIVE FORNECIMENTO E MOVIMENTAÇÃO
A30: Quantidade = | B30: 30 | C30: und
A32: 1.6 | B32: ='Planilha Orçamentaria'!C16 -> ED-29823 | C32: ='Planilha Orçamentaria'!D16 -> TAPUME FIXO DE PROTEÇÃO PARA FECHAMENTO DE OBRA EM TELHA METÁLICA GALVANIZADA, TIPO TRAPEZOIDAL, ESP. 0,5MM, COM MÓDULO NA DIMENSÃO DE (300X220)CM, COM REAPROVEITAMENTO, EXCLUSIVE PINTURA ESMALTE, INCLUSIVE PONTALETE E FIXAÇÃO
A34: Quantidade = | B34: 34 | C34: m²
A36: ='[1]Planilha Orcamentária'!A14 -> 2.0 | C36: ='[1]Planilha Orcamentária'!D14 -> MOBILIZAÇÃO E DESMOBILIZAÇÃO DE OBRA
A38: ='[1]Planilha Orcamentária'!A15 -> 2.1 | B38: ='Planilha Orçamentaria'!C20 -> ED-50392 | C38: ='Planilha Orçamentaria'!D20 -> MOBILIZAÇÃO E DESMOBILIZAÇÃO DE OBRA EM CENTRO URBANO OU REGIÃO LIMÍTROFE COM VALOR ATÉ O VALOR DE 1.000.000,00
A40: 0.5
A42: VALOR DA OBRA S/ BDI (SEM O VALOR DE MOB. E DESM. | C42: VALOR DA OBRA C/ BDI (SEM O VALOR DE MOB. E DESM. | E42: VALOR DE MOB. E DESM. C/BDI (VALOR DA OBRA C/BDI SEM O VALOR DO ITEM MO. E DESM.) / 100 * 0,30
A43: ='Planilha Orçamentaria'!G20 -> 413231.24 | C43: ='Planilha Orçamentaria'!H20 -> 503067.71 | E43: =C43/100*0.5 -> 2515.3385
A45: 2.2 | B45: ='Planilha Orçamentaria'!C21 -> ED-50137 | C45: ='Planilha Orçamentaria'!D21 -> MOBILIZAÇÃO E DESMOBILIZAÇÃO DE CONTAINER, INCLUSIVE CARGA, DESCARGA E TRANSPORTE EM CAMINHÃO CARROCERIA COM GUINDAUTO (MUNCK), EXCLUSIVE LOCAÇÃO DO CONTAINER
A47: Quantidade = | B47: 1 | C47: und
A49: 3.0 | C49: ='Planilha Orçamentaria'!D24 -> ADMINISTRAÇÃO DE OBRA
A51: 3.1 | B51: ='Planilha Orçamentaria'!C25 -> CO-27348 | C51: ='Planilha Orçamentaria'!D25 -> ENGENHEIRO/ARQUITETO, NÍVEL JÚNIOR, INCLUSIVE ENCARGOS COMPLEMENTARES
A53: Horas por mês | B53: Qnt de meses | C53: Total
A54: 20 | B54: 4 | C54: =A54*B54 -> 80
A56: 3.2 | B56: ='Planilha Orçamentaria'!C26 -> ED-28562 | C56: ='Planilha Orçamentaria'!D26 -> AUXILIAR DE TOPÓGRAFO COM ENCARGOS COMPLEMENTARES
A58: Horas por mês | B58: Qnt de meses | C58: Total
A59: 20 | B59: 4 | C59: =A59*B59 -> 80
A61: 3.3 | B61: ='Planilha Orçamentaria'!C27 -> ED-28561 | C61: ='Planilha Orçamentaria'!D27 -> TOPÓGRAFO COM ENCARGOS COMPLEMENTARES
A63: Horas por mês | B63: Qnt de meses | C63: Total
A64: 20 | B64: 4 | C64: =A64*B64 -> 80
A66: 3.4 | B66: ='Planilha Orçamentaria'!C28 -> 90776 | C66: ='Planilha Orçamentaria'!D28 -> ENCARREGADO GERAL COM ENCARGOS COMPLEMENTARES
A68: Horas por mês | B68: Qnt de meses | C68: Total
A69: 34 | B69: 4 | C69: =A69*B69 -> 136
A71: 4.0 | C71: ='Planilha Orçamentaria'!D31 -> PROJETOS
...

Sheet Planilha Orçamentaria
A2: PLANILHA ORÇAMENTÁRIA DE CUSTOS
A3: PREFEITURA MUNICIPAL DE ARAXÁ/MG | H3: Data: | I3: =TODAY() -> 46078
A4: OBRA: RECUPERAÇÃO DE EROSÃO E EXECUÇÃO DE REDE DRENAGEM PLUVIAL | F4: Prazo de Execução: 04 meses
A5: LOCAL: RUA ADOLFO FONTES SOBRINHO- BAIRRO JARDIM AMÉRICA, MUNICIPIO DE ARAXÁ/MG | F5: FORMA DE EXECUÇÃO:
A6: REGIÃO/MÊS DE REFERÊNCIA: SETOP/SEINFRA REGIÃO TRIÂNGULO E ALTO PARANAÍBA - ABRIL E OUTUBRO DE 2025 - SEM DESONERAÇÃO; SINAPI - 12/2025 - SEM DESONERAÇÃO; SUDECAP - 09/2025; SICRO 10/2025 | F6: ( ) | G6: DIRETA | H6: ( X ) | I6: INDIRETA
A7: *DEMONSTRATIVO DE BDI EXTRAÍDO DA TABELA DE REFERÊNCIA (SETOP/SEINFRA) | F7: % ISS MUNICIPAL: | G7: 0.02 | H7: BDI: | I7: 0.2174
A9: ITEM | B9: FONTE | C9: CÓDIGO | D9: DESCRIÇÃO | E9: UNIDADE | F9: QUANTIDADE | G9: PREÇO UNITÁRIO S/ BDI | H9: PREÇO UNITÁRIO C/ BDI | I9: PREÇO TOTAL
A10: 1.0 | D10: SERVIÇOS PRELIMINARES
A11: 1.1 | B11: SEINFRA | C11: ED-28427 | D11: FORNECIMENTO E COLOCAÇÃO DE PLACA DE OBRA EM CHAPA GALVANIZADA #26, ESP. 0,45MM, DIMENSÃO (3X1,5)M, PLOTADA COM ADESIVO VINÍLICO, AFIXADA COM REBITES 4,8X40MM, EM ESTRUTURA METÁLICA DE METALON 20X20MM, ESP. 1,25MM, INCLUSIVE SUPORTE EM EUCALIPTO AUTOCLAVADO PINTADO COM TINTA PVA DUAS (2) DEMÃOS | E11: UND | F11: ='Memoria de Calculo'!B14 -> 1 | G11: ='Tabela Referencial - Setop'!H120 -> 1179.41 | H11: =ROUND(G11+(G11*$I$7),2) -> 1435.81 | I11: =ROUND((F11*H11),2) -> 1435.81 | J11: 100901
A12: 1.2 | B12: SEINFRA | C12: ED-16350 | D12: LOCAÇÃO DE CONTAINER COM ISOLAMENTO TÉRMICO, TIPO 3, PARA DEPÓSITO/FERRAMENTARIA DE OBRA, COM MEDIDAS REFERENCIAIS DE (6) METROS COMPRIMENTO, (2,3) METROS LARGURA E (2,5) METROS ALTURA ÚTIL INTERNA, INCLUSIVE LIGAÇÕES ELÉTRICAS INTERNAS, EXCLUSIVE MOBILIZAÇÃO/DESMOBILIZAÇÃO E LIGAÇÕES PROVISÓRIAS EXTERNAS | E12: MÊS | F12: ='Memoria de Calculo'!B18 -> 4 | G12: ='Tabela Referencial - Setop'!H148 -> 343.03 | H12: =ROUND(G12+(G12*$I$7),2) -> 417.6 | I12: =ROUND((F12*H12),2) -> 1670.4 | J12: 77039
A13: 1.3 | B13: SEINFRA | C13: ED-50155 | D13: LOCAÇÃO DE BANHEIRO QUÍMICO, DIMENSÃO (110X120X230)CM, LINHA PADRÃO, CONTENDO UMA (1) PIA/HIGIENIZADOR DE MÃOS, INCLUSIVE MANUTENÇÃO E MOBILIZAÇÃO/DESMOBILIZAÇÃO | E13: MÊS | F13: ='Memoria de Calculo'!B22 -> 4 | G13: ='Tabela Referencial - Setop'!H154 -> 1050 | H13: =ROUND(G13+(G13*$I$7),2) -> 1278.27 | I13: =ROUND((F13*H13),2) -> 5113.08 | J13: 92018
A14: 1.4 | B14: SEINFRA | C14: ED-50151 | D14: LIGAÇÃO PROVISÓRIA COM ENTRADA DE ENERGIA AÉREA, PADRÃO CEMIG, CARGA INSTALADA DE 15,1KVA ATÉ 30KVA, TRIFÁSICO, COM SAÍDA SUBTERRÂNEA, INCLUSIVE POSTE, CAIXA PARA MEDIDOR, DISJUNTOR, BARRAMENTO, ATERRAMENTO E ACESSÓRIOS | E14: UND | F14: ='Memoria de Calculo'!B26 -> 1 | G14: ='Tabela Referencial - Setop'!H126 -> 830.96 | H14: =ROUND(G14+(G14*$I$7),2) -> 1011.61 | I14: =ROUND((F14*H14),2) -> 1011.61 | J14: 93747
A15: 1.5 | B15: SEINFRA | C15: ED-27006 | D15: CONE PARA SINALIZAÇÃO/ISOLAMENTO DE ÁREAS, ALTURA 75CM , INCLUSIVE FORNECIMENTO E MOVIMENTAÇÃO | E15: UND | F15: ='Memoria de Calculo'!B30 -> 30 | G15: ='Tabela Referencial - Setop'!H179 -> 5.32 | H15: =ROUND(G15+(G15*$I$7),2) -> 6.48 | I15: =ROUND((F15*H15),2) -> 194.4 | J15: 77270
A16: 1.6 | B16: SEINFRA | C16: ED-29823 | D16: TAPUME FIXO DE PROTEÇÃO PARA FECHAMENTO DE OBRA EM TELHA METÁLICA GALVANIZADA, TIPO TRAPEZOIDAL, ESP. 0,5MM, COM MÓDULO NA DIMENSÃO DE (300X220)CM, COM REAPROVEITAMENTO, EXCLUSIVE PINTURA ESMALTE, INCLUSIVE PONTALETE E FIXAÇÃO | E16: M² | F16: ='Memoria de Calculo'!B34 -> 34 | G16: ='Tabela Referencial - Setop'!H176 -> 67.21 | H16: =ROUND(G16+(G16*$I$7),2) -> 81.82 | I16: =ROUND((F16*H16),2) -> 2781.88 | J16: 92895
A17: Total item 1.0 => | I17: =SUM(I11:I16) -> 12207.18
A19: 2.0 | D19: MOBILIZAÇÃO E DESMOBILIZAÇÃO DE OBRA
A20: 2.1 | B20: SEINFRA | C20: ED-50392 | D20: MOBILIZAÇÃO E DESMOBILIZAÇÃO DE OBRA EM CENTRO URBANO OU REGIÃO LIMÍTROFE COM VALOR ATÉ O VALOR DE 1.000.000,00 | E20: % | F20: 0.5 | G20: =K113 -> 413231.24 | H20: =ROUND(G20+(G20*$I$7),2) -> 503067.71 | I20: =H20/100*0.5 -> 2515.3385 | J20: 84295
A21: 2.2 | B21: SEINFRA | C21: ED-50137 | D21: MOBILIZAÇÃO E DESMOBILIZAÇÃO DE CONTAINER, INCLUSIVE CARGA, DESCARGA E TRANSPORTE EM CAMINHÃO CARROCERIA COM GUINDAUTO (MUNCK), EXCLUSIVE LOCAÇÃO DO CONTAINER | E21: UND | F21: ='Memoria de Calculo'!B47 -> 1 | G21: ='Tabela Referencial - Setop'!H163 -> 1668.96 | H21: =ROUND(G21+(G21*$I$7),2) -> 2031.79 | I21: =ROUND((F21*H21),2) -> 2031.79 | J21: 77040
A22: Total item 2.0 => | I22: =SUM(I20:I21) -> 4547.1285
A24: 3.0 | D24: ADMINISTRAÇÃO DE OBRA
A25: 3.1 | B25: SEINFRA | C25: CO-27348 | D25: ENGENHEIRO/ARQUITETO, NÍVEL JÚNIOR, INCLUSIVE ENCARGOS COMPLEMENTARES | E25: H | F25: ='Memoria de Calculo'!C54 -> 80 | G25: ='Tabela Referencial - Setop'!H4974 -> 126.52 | H25: =ROUND(G25+(G25*$I$7),2) -> 154.03 | I25: =ROUND((F25*H25),2) -> 12322.4 | J25: 92147
A26: 3.2 | B26: SEINFRA | C26: ED-28562 | D26: AUXILIAR DE TOPÓGRAFO COM ENCARGOS COMPLEMENTARES | E26: H | F26: ='Memoria de Calculo'!C59 -> 80 | G26: ='Tabela Referencial - Setop'!H3203 -> 25.68 | H26: =ROUND(G26+(G26*$I$7),2) -> 31.26 | I26: =ROUND((F26*H26),2) -> 2500.8 | J26: 92148
A27: 3.3 | B27: SEINFRA | C27: ED-28561 | D27: TOPÓGRAFO COM ENCARGOS COMPLEMENTARES | E27: H | F27: ='Memoria de Calculo'!C64 -> 80 | G27: ='Tabela Referencial - Setop'!H3238 -> 50.63 | H27: =ROUND(G27+(G27*$I$7),2) -> 61.64 | I27: =ROUND((F27*H27),2) -> 4931.2 | J27: 77248
A28: 3.4 | B28: SINAPI | C28: 90776 | D28: ENCARREGADO GERAL COM ENCARGOS COMPLEMENTARES | E28: H | F28: ='Memoria de Calculo'!C69 -> 136 | G28: 75.55 | H28: =ROUND(G28+(G28*$I$7),2) -> 91.97 | I28: =ROUND((F28*H28),2) -> 12507.92 | J28: 77269
A29: Total item 3.0 => | I29: =SUM(I25:I28) -> 32262.32
A31: 4.0 | D31: PROJETOS
A32: 4.1 | B32: SEINFRA | C32: CO-27389 | D32: COMO CONSTRUÍDO ("AS BUILT") DE PROJETOS COM ÁREA ATÉ 10.000 M2 (DRENAGEM PLUVIAL) | E32: M² | F32: ='Memoria de Calculo'!A76 -> 1200 | G32: ='Tabela Referencial - Setop'!H5087 -> 0.87 | H32: =ROUND(G32+(G32*$I$7),2) -> 1.06 | I32: =ROUND((F32*H32),2) -> 1272 | J32: 77035
A33: Total item 4.0 => | I33: =SUM(I32) -> 1272
A35: 5.0 | D35: TERRAPLENAGEM
A36: 5.1 | D36: Escavação
A37: 5.1.1 | B37: SEINFRA | C37: ED-51117 | D37: ESCAVAÇÃO MECÂNICA DE VALAS COM PROFUNDIDADE MAIOR QUE 3,0M E MENOR OU IGUAL 5,0M, INCLUSIVE CARGA EM CAMINHÃO, EXCLUSIVE TRANSPORTE E DESCARGA | E37: M³ | F37: ='Memoria de Calculo'!D85 -> 180 | G37: ='Tabela Referencial - Setop'!H208 -> 8.79 | H37: =ROUND(G37+(G37*$I$7),2) -> 10.7 | I37: =ROUND((F37*H37),2) -> 1926 | J37: 99447
A38: Sub-Total item 5.1 => | I38: =SUM(I37:I37) -> 1926
A39: 5.2 | D39: Escoramento tipo pntalete com prancha verticais
A40: 5.2.1 | B40: SEINFRA | C40: ED-29712 | D40: ESCORAMENTO DE VALA CONTÍNUO, COM PRANCHAS VERTICAIS, LONGARINAS E ESTRONCAS DE MADEIRA, REAPROVEITAMENTO (3X), EXCLUSIVE ESCAVAÇÃO | E40: M | F40: ='Memoria de Calculo'!A92 -> 40 | G40: ='Tabela Referencial - Setop'!H235 -> 123.27 | H40: =ROUND(G40+(G40*$I$7),2) -> 150.07 | I40: =ROUND((F40*H40),2) -> 6002.8 | J40: 92164
A41: Sub-Total item 5.2 => | I41: =SUM(I40:I40) -> 6002.8
A42: 5.3 | D42: Apiloamento
A43: 5.3.1 | B43: SEINFRA | C43: ED-51094 | D43: APILOAMENTO MECANIZADO EM FUNDO DE VALA COM PLACA VIBRATÓRIA, EXCLUSIVE ESCAVAÇÃO | E43: M² | F43: ='Memoria de Calculo'!A99 -> 60 | G43: ='Tabela Referencial - Setop'!H224 -> 14.65 | H43: =ROUND(G43+(G43*$I$7),2) -> 17.83 | I43: =ROUND((F43*H43),2) -> 1069.8 | J43: 101047
A44: Sub-Total item 5.3 => | I44: =SUM(I43) -> 1069.8
A45: 5.4 | D45: Reaterro
A46: 5.4.1 | B46: SEINFRA | C46: ED-51121 | D46: REATERRO MANUAL DE VALA, INCLUSIVE ESPALHAMENTO E COMPACTAÇÃO MECANIZADA COM PLACA VIBRATÓRIA | E46: M³ | F46: ='Memoria de Calculo'!A106 -> 154 | G46: ='Tabela Referencial - Setop'!H233 -> 48.41 | H46: =ROUND(G46+(G46*$I$7),2) -> 58.93 | I46: =ROUND((F46*H46),2) -> 9075.22 | J46: 92168
...

Sheet Cronograma Fisico-Financeiro
A6: CRONOGRAMA FÍSICO FINANCEIRO
A7: ='Planilha Orçamentaria'!A3:E3 -> PREFEITURA MUNICIPAL DE ARAXÁ/MG | H7: Data: 21/01/2026
A8: ='Planilha Orçamentaria'!A4:E4 -> OBRA: RECUPERAÇÃO DE EROSÃO E EXECUÇÃO DE REDE DRENAGEM PLUVIAL | F8: PRAZO PREVISTO PARA EXECUÇÃO DA OBRA:
A9: ='Planilha Orçamentaria'!A5:E5 -> LOCAL: RUA ADOLFO FONTES SOBRINHO- BAIRRO JARDIM AMÉRICA, MUNICIPIO DE ARAXÁ/MG
A10: ITEM | B10: DISCRIMINAÇÃO DOS SERVIÇOS | C10: VALOR | D10: % | E10: FÍSICO | F10: 1 mês | G10: 2 mês | H10: 3 mês | I10: 4 mês | J10: TOTAL
E11: FINANCEIRO
A12: 1 | B12: ='Planilha Orçamentaria'!D10 -> SERVIÇOS PRELIMINARES | C12: ='Planilha Orçamentaria'!I17 -> 12207.18 | D12: =C12/C$32 -> 0.02936207 | E12: FISICO (%) | F12: 0.25 | G12: 0.25 | H12: 0.25 | I12: 0.25 | J12: =SUM(F12:I12) -> 1
E13: FINANCEIRO (R$) | F13: =F12*C12 -> 3051.795 | G13: =G12*C12 -> 3051.795 | H13: =H12*C12 -> 3051.795 | I13: =I12*C12 -> 3051.795 | J13: =SUM(F13:I13) -> 12207.18
A14: 2 | B14: ='Planilha Orçamentaria'!D19 -> MOBILIZAÇÃO E DESMOBILIZAÇÃO DE OBRA | C14: ='Planilha Orçamentaria'!I22 -> 4547.1285 | D14: =C14/C$32 -> 0.01093726 | E14: FISICO (%) | F14: 0.5 | I14: 0.5 | J14: =SUM(F14:I14) -> 1
E15: FINANCEIRO (R$) | F15: =ROUND($C14*F14,2) -> 2273.56 | G15: =ROUND($C14*G14,2) -> 0 | H15: =ROUND($C14*H14,2) -> 0 | I15: =ROUND($C14*I14,2) -> 2273.56 | J15: =SUM(F15:I15) -> 4547.12
A16: 3 | B16: ='Planilha Orçamentaria'!D24 -> ADMINISTRAÇÃO DE OBRA | C16: ='Planilha Orçamentaria'!I29 -> 32262.32 | D16: =C16/C$32 -> 0.077600927 | E16: FISICO (%) | F16: 0.25 | G16: 0.25 | H16: 0.25 | I16: 0.25 | J16: =SUM(F16:I16) -> 1
E17: FINANCEIRO (R$) | F17: =ROUND($C16*F16,2) -> 8065.58 | G17: =ROUND($C16*G16,2) -> 8065.58 | H17: =ROUND($C16*H16,2) -> 8065.58 | I17: =ROUND($C16*I16,2) -> 8065.58 | J17: =SUM(F17:I17) -> 32262.32
A18: 4 | B18: ='Planilha Orçamentaria'!D31 -> PROJETOS | C18: ='Planilha Orçamentaria'!I33 -> 1272 | D18: =C18/C$32 -> 0.0030595561 | E18: FISICO (%) | I18: 1 | J18: =SUM(F18:I18) -> 1
E19: FINANCEIRO (R$) | F19: =ROUND($C18*F18,2) -> 0 | G19: =ROUND($C18*G18,2) -> 0 | H19: =ROUND($C18*H18,2) -> 0 | I19: =ROUND($C18*I18,2) -> 1272 | J19: =SUM(F19:I19) -> 1272
A20: 5 | B20: ='Planilha Orçamentaria'!D35 -> TERRAPLENAGEM | C20: ='Planilha Orçamentaria'!I51 -> 18934.68 | D20: =C20/C$32 -> 0.045543802 | E20: FISICO (%) | G20: 0.5 | H20: 0.5 | J20: =SUM(F20:I20) -> 1
E21: FINANCEIRO (R$) | F21: =ROUND($C20*F20,2) -> 0 | G21: =ROUND($C20*G20,2) -> 9467.34 | H21: =ROUND($C20*H20,2) -> 9467.34 | I21: =ROUND($C20*I20,2) -> 0 | J21: =SUM(F21:I21) -> 18934.68
A22: 6 | B22: ='Planilha Orçamentaria'!D53 -> DRENAGEM | C22: ='Planilha Orçamentaria'!I82 -> 82256.51 | D22: =C22/C$32 -> 0.19785252 | E22: FISICO (%) | G22: 0.6 | H22: 0.25 | I22: 0.15 | J22: =SUM(F22:I22) -> 1
E23: FINANCEIRO (R$) | F23: =ROUND($C22*F22,2) -> 0 | G23: =ROUND($C22*G22,2) -> 49353.91 | H23: =ROUND($C22*H22,2) -> 20564.13 | I23: =ROUND($C22*I22,2) -> 12338.48 | J23: =SUM(F23:I23) -> 82256.52
A24: 7 | B24: ='Planilha Orçamentaria'!D84 -> OBRAS COMPLEMENTARES | C24: ='Planilha Orçamentaria'!I87 -> 9004 | D24: =C24/C$32 -> 0.021657424 | E24: FISICO (%) | I24: 1 | J24: =SUM(F24:I24) -> 1
E25: FINANCEIRO (R$) | F25: =ROUND($C24*F24,2) -> 0 | G25: =ROUND($C24*G24,2) -> 0 | H25: =ROUND($C24*H24,2) -> 0 | I25: =ROUND($C24*I24,2) -> 9004 | J25: =SUM(F25:I25) -> 9004
A26: 8 | B26: ='Planilha Orçamentaria'!D89 -> EROSÃO | C26: ='Planilha Orçamentaria'!I103 -> 237222.4 | D26: =C26/C$32 -> 0.57059375 | E26: FISICO (%) | F26: 0.25 | G26: 0.4 | H26: 0.35 | J26: =SUM(F26:I26) -> 1
E27: FINANCEIRO (R$) | F27: =ROUND($C26*F26,2) -> 59305.6 | G27: =ROUND($C26*G26,2) -> 94888.96 | H27: =ROUND($C26*H26,2) -> 83027.84 | I27: =ROUND($C26*I26,2) -> 0 | J27: =SUM(F27:I27) -> 237222.4
A28: 9 | B28: ='Planilha Orçamentaria'!D105 -> PAVIMENTAÇÃO | C28: ='Planilha Orçamentaria'!I109 -> 17229.96 | D28: =C28/C$32 -> 0.04144342 | E28: FISICO (%) | H28: 0.75 | I28: 0.25 | J28: =SUM(F28:I28) -> 1
E29: FINANCEIRO (R$) | F29: =ROUND($C28*F28,2) -> 0 | G29: =ROUND($C28*G28,2) -> 0 | H29: =ROUND($C28*H28,2) -> 12922.47 | I29: =ROUND($C28*I28,2) -> 4307.49 | J29: =SUM(F29:I29) -> 17229.96
A30: 10 | B30: ='Planilha Orçamentaria'!D111 -> LIMPEZA FINAL DE OBRA | C30: ='Planilha Orçamentaria'!I114 -> 810.4 | D30: =C30/C$32 -> 0.0019492644 | E30: FISICO (%) | I30: 1 | J30: =SUM(F30:I30) -> 1
E31: FINANCEIRO (R$) | F31: =ROUND($C30*F30,2) -> 0 | G31: =ROUND($C30*G30,2) -> 0 | H31: =ROUND($C30*H30,2) -> 0 | I31: =ROUND($C30*I30,2) -> 810.4 | J31: =SUM(F31:I31) -> 810.4
A32: TOTAL GERAL | C32: =SUM(C12:C31) -> 415746.58 | D32: =SUM(D12:D31) -> 1 | E32: FISICO (%) | F32: =F33/C32 -> 0.17485781 | G32: =G33/C32 -> 0.39646168 | H32: =H33/C32 -> 0.32976617 | I32: =I33/C32 -> 0.098914356 | J32: =SUM(F32:I32) -> 1
E33: FINANCEIRO (R$) | F33: =SUM(F13+F15+F17+F19+F21+F23+F25+F27+F29+F31) -> 72696.535 | G33: =SUM(G13+G15+G17+G19+G21+G23+G25+G27+G29+G31) -> 164827.59 | H33: =SUM(H13+H15+H17+H19+H21+H23+H25+H27+H29+H31) -> 137099.15 | I33: =SUM(I13+I15+I17+I19+I21+I23+I25+I27+I29+I31) -> 41123.305 | J33: =SUM(F33:I33) -> 415746.58
